BEGIN:VCALENDAR
VERSION:2.0
PRODID:-//Adam Feng Shui - ECPv6.15.20//NONSGML v1.0//EN
CALSCALE:GREGORIAN
METHOD:PUBLISH
X-ORIGINAL-URL:https://adamfengshui.cz
X-WR-CALDESC:Akce na Adam Feng Shui
REFRESH-INTERVAL;VALUE=DURATION:PT1H
X-Robots-Tag:noindex
X-PUBLISHED-TTL:PT1H
BEGIN:VTIMEZONE
TZID:Europe/Prague
BEGIN:DAYLIGHT
TZOFFSETFROM:+0100
TZOFFSETTO:+0200
TZNAME:CEST
DTSTART:20210328T010000
END:DAYLIGHT
BEGIN:STANDARD
TZOFFSETFROM:+0200
TZOFFSETTO:+0100
TZNAME:CET
DTSTART:20211031T010000
END:STANDARD
BEGIN:DAYLIGHT
TZOFFSETFROM:+0100
TZOFFSETTO:+0200
TZNAME:CEST
DTSTART:20220327T010000
END:DAYLIGHT
BEGIN:STANDARD
TZOFFSETFROM:+0200
TZOFFSETTO:+0100
TZNAME:CET
DTSTART:20221030T010000
END:STANDARD
BEGIN:DAYLIGHT
TZOFFSETFROM:+0100
TZOFFSETTO:+0200
TZNAME:CEST
DTSTART:20230326T010000
END:DAYLIGHT
BEGIN:STANDARD
TZOFFSETFROM:+0200
TZOFFSETTO:+0100
TZNAME:CET
DTSTART:20231029T010000
END:STANDARD
BEGIN:DAYLIGHT
TZOFFSETFROM:+0100
TZOFFSETTO:+0200
TZNAME:CEST
DTSTART:20240331T010000
END:DAYLIGHT
BEGIN:STANDARD
TZOFFSETFROM:+0200
TZOFFSETTO:+0100
TZNAME:CET
DTSTART:20241027T010000
END:STANDARD
BEGIN:DAYLIGHT
TZOFFSETFROM:+0100
TZOFFSETTO:+0200
TZNAME:CEST
DTSTART:20250330T010000
END:DAYLIGHT
BEGIN:STANDARD
TZOFFSETFROM:+0200
TZOFFSETTO:+0100
TZNAME:CET
DTSTART:20251026T010000
END:STANDARD
END:VTIMEZONE
BEGIN:VEVENT
DTSTART;TZID=Europe/Prague:20241221T200000
DTEND;TZID=Europe/Prague:20241221T213000
DTSTAMP:20260424T102326
CREATED:20241003T120139Z
LAST-MODIFIED:20241003T120139Z
UID:19511-1734811200-1734816600@adamfengshui.cz
SUMMARY:21.12. - Slunovrat 2024 s Adam Feng Shui
DESCRIPTION:Slunovrat 2024 s Adam Feng Shui\n21. prosince 2024 – ONLINE \n\n\n\n\n\n\n\n\n\n\n  \n\njiž několik dní mi každou noc do snů vrací jeden silný moment. A to společné prožití nejsilnějšího momentu tohoto období. \nAno\, slunovrat.\nObdobí znovuzrození podle starých slovanských tradic\, znovuzrození boha Slunce Dažboga na zimní slunovrat. Zrození nového. \nPojďme společně tento okamžik prožít v rituálu\, který bude zaměřen na slunovrat\, znovuzrození světla\, života. A tedy hlavně našeho nového Já. Odložit strachy\, trápení a vše\, co už dále nechceme do tmy starého a s novým se zrodit. Transcendovat. \nChci využít tuto energii\, chci změnit\, chci udělat krok… Ale jak? \n\nNečekejte\, že přijde síla zvenčí. Tato síla je uvnitř nás. Pojďme všechny vědomosti\, které načerpáváme\, vyzkoušet v praxi. \nČeká na nás neuvěřitelně silný okamžik.\nČeká na nás mnoho zlomových okamžiků a je na nás\, jestli se budeme dívat\, jak ty zlomové okamžiky někdo tvoří\, nebo jestli tyto okamžiky budeme tvořit společně. \nA cesty jsou….. \nJe na vás jestli\, a kterou si vyberete. \nKDY JINDY\, KDYŽ NE TEĎ\n\nStartujeme 21.12.2024 \nSpolečně tentokráte ve na platformě Hero Hero (nebo se k nám můžete připojit přes Zoom) přibližně v 90 minutovém rituálu uctíme sílu přírody a jejích zákonů\, sladíme se se svým životem a zrodíme své Já\, své nové životy. \nTo je plán\, ale jak se znám\, tak ještě před rituálem se budou rodit postupně videa\, která potřebujete právě vy. Ty najdete na Hero Hero\, vždy ve správný čas tak\, aby se lidé lépe společně propojili na okamžik slunovratu. \nKolik tě společný rituál bude stát? \n\nChci udělat symbolický krok. Právě teď považuji večerní rituál za důležitý krok. Přesuneme se od ohně s blízkými do magického světa společně s vámi.Chci být nejen tělesně\, ale i duševně přítomna\, a k tomu potřebujeme udělat krok. Udělám vše pro přípravu tohoto okamžiku pro každého z vás. \nHodnota rituálů se obtížně vyjadřuje v hmotném světě. Prožití rituálu zplodí tvé Já\, spiritualitu\, hmotu\, vztahy a život. \nPomůže ti žít tvůj sen. \nJaká je hodnota prožitého snu? Nevím… \nNevyčíslitelná? \nAle… \nDnes dáme symbolických 90 Kč. \nBer to jako dar. \nChci společně s vámi prožít a dát vám to… \n  \nPOJĎME SPOLEČNĚ TVOŘIT LEPŠÍ SVĚT.\nS láskou  \n\nZuzana \n\n\n\n\n\n\n\n\n\n\n\n  \nP.S.: Zúčastnit se může kdokoli\, nejsou potřeba žádné znalosti Feng Shui. \nMísto konání: ONLINE \n\n\n\n\n\n\n\n\n\n\n  \n\n\n\n\nobjednávejte ZDE\n\n  \n 
URL:https://adamfengshui.cz/event/21-12-slunovrat-2024-s-adam-feng-shui/
LOCATION:Online
CATEGORIES:Večerní semináře Feng Shui,Zuzana Adam
ATTACH;FMTTYPE=image/jpeg:https://adamfengshui.cz/wp-content/uploads/2022/12/319876315_1297563971033923_640592847830043338_n.jpg
ORGANIZER;CN="Zuzana Adam":MAILTO:info@adamfengshui.cz
END:VEVENT
BEGIN:VEVENT
DTSTART;TZID=Europe/Prague:20231221T203000
DTEND;TZID=Europe/Prague:20231221T213000
DTSTAMP:20260424T102326
CREATED:20231219T090503Z
LAST-MODIFIED:20231219T090503Z
UID:18896-1703190600-1703194200@adamfengshui.cz
SUMMARY:21.12. - Slunovrat 2023 s Adam Feng Shui
DESCRIPTION:Slunovrat 2023 s Adam Feng Shui\n21. prosince 2023 – ONLINE \n\n\n\n\n\n\n\n\n\n\n  \n\njiž několik dní mi každou noc do snů vrací jeden silný moment. A to společné prožití nejsilnějšího momentu tohoto období. \nAno\, slunovrat.\nObdobí znovuzrození podle starých slovanských tradic\, znovuzrození boha Slunce Dažboga na zimní slunovrat. Zrození nového. \nPojďme společně tento okamžik prožít v rituálu\, který bude zaměřen na slunovrat\, znovuzrození světla\, života. A tedy hlavně našeho nového Já. Odložit strachy\, trápení a vše\, co už dále nechceme do tmy starého a s novým se zrodit. Transcendovat. \nChci využít tuto energii\, chci změnit\, chci udělat krok… Ale jak? \n\n\nNečekejte\, že přijde síla zvenčí. Tato síla je uvnitř nás. Pojďme všechny vědomosti\, které načerpáváme\, vyzkoušet v praxi. \nČeká na nás neuvěřitelně silný okamžik.\nČeká na nás mnoho zlomových okamžiků a je na nás\, jestli se budeme dívat\, jak ty zlomové okamžiky někdo tvoří\, nebo jestli tyto okamžiky budeme tvořit společně. \nA cesty jsou….. \nJe na vás jestli\, a kterou si vyberete. \n\nKDY JINDY\, KDYŽ NE TEĎ\n\n\nStartujeme 21.12.2023 \nSpolečně tentokráte ve na platformě Hero Hero (nebo se k nám můžete připojit přes Zoom) přibližně v 90 minutovém rituálu uctíme sílu přírody a jejích zákonů\, sladíme se se svým životem a zrodíme své Já\, své nové životy. \nTo je plán\, ale jak se znám\, tak ještě před rituálem se budou rodit postupně videa\, která potřebujete právě vy. Ty najdete na Hero Hero\, vždy ve správný čas tak\, aby se lidé lépe společně propojili na okamžik slunovratu. \nKolik tě společný rituál bude stát? \n\nChci udělat symbolický krok. Právě teď považuji večerní rituál za důležitý krok. Přesuneme se od ohně s blízkými do magického světa společně s vámi. \nChci být nejen tělesně\, ale i duševně přítomna\, a k tomu potřebujeme udělat krok. Udělám vše pro přípravu tohoto okamžiku pro každého z vás. \nHodnota rituálů se obtížně vyjadřuje v hmotném světě. Prožití rituálu zplodí tvé Já\, spiritualitu\, hmotu\, vztahy a život. \nPomůže ti žít tvůj sen. \nJaká je hodnota prožitého snu? Nevím… \nNevyčíslitelná? \nAle… \nDnes dáme symbolických 90 Kč. \nBer to jako dar. \nChci společně s vámi prožít a dát vám to… \n  \nPOJĎME SPOLEČNĚ TVOŘIT LEPŠÍ SVĚT.\nS láskou  \n\nZuzana\n\n\n\n\n\n\n\n\n\n\n  \nP.S.: Zúčastnit se může kdokoli\, nejsou potřeba žádné znalosti Feng Shui. \nMísto konání: ONLINE \n\n\n\n\n\n\n\n\n\n\n  \n\n\n\n\nobjednávejte ZDE\n\n  \n 
URL:https://adamfengshui.cz/event/21-12-slunovrat-2023-s-adam-feng-shui/
LOCATION:Online
CATEGORIES:Večerní semináře Feng Shui,Zuzana Adam
ATTACH;FMTTYPE=image/jpeg:https://adamfengshui.cz/wp-content/uploads/2022/12/319876315_1297563971033923_640592847830043338_n.jpg
ORGANIZER;CN="Zuzana Adam":MAILTO:info@adamfengshui.cz
END:VEVENT
BEGIN:VEVENT
DTSTART;TZID=Europe/Prague:20221221T203000
DTEND;TZID=Europe/Prague:20221221T213000
DTSTAMP:20260424T102326
CREATED:20221213T100754Z
LAST-MODIFIED:20221213T103925Z
UID:17318-1671654600-1671658200@adamfengshui.cz
SUMMARY:21.12. - Slunovrat 2022 s Adam Feng Shui
DESCRIPTION:Slunovrat 2022 s Adam Feng Shui\n21. prosince 2022 – ONLINE \n\n\n\n\n\n\n\n\n\n\n  \nJiž několik dní mi každou noc do snů přichází jeden silný moment. A to společné prožití nejsilnějšího momentu tohoto období. \nAno\, slunovrat.\nObdobí znovuzrození podle starých slovanských tradic\, znovuzrození boha Slunce Dažboga na zimní slunovrat. Zrození nového. \nO síle předvánočního období jsme společně mluvili již v létě\, kdy jsme si řekli o aktuálních energiích letících hvězd. Přichází vrcholný okamžik všech transformací\, které započaly jarem roku 2020. A že se toho za ty dva a půl roku stalo víc než dost. \nNepolevit a dotáhnout to do posledního kroku naší cesty osobních změn. To je to\, co pro sebe můžeme a měli bychom udělat. \nA tak pojďme společně tento okamžik prožít v rituálu\, který bude zaměřen na slunovrat\, znovuzrození světla\, života. A tedy hlavně našeho nového Já. Odložit strachy\, trápení a vše\, co už dále nechceme do tmy starého a s novým se zrodit. Transcendovat. \nChci využít tuto energii\, chci změnit\, chci udělat skok… Ale jak? \n\nNečekejte\, že přijde síla zvenčí. Tato síla je uvnitř nás. Pojďme všechny vědomosti\, které načerpáváme\, vyzkoušet v praxi. \nČeká na nás neuvěřitelně silný okamžik.\nČeká na nás mnoho zlomových okamžiků a je na nás\, jestli se budeme dívat\, jak ty zlomové okamžiky někdo tvoří\, nebo jestli tyto okamžiky budeme tvořit společně. \nA cesty jsou….. \nJe na vás jestli\, a kterou si vyberete. \nKDY JINDY\, KDYŽ NE TEĎ\nStartujeme 21.12.2022\n\n\nSpolečně tentokráte ve Facebookové skupině (nebo se k nám můžete připojit přes Zoom) přibližně v 90 minutovém rituálu uctíme sílu přírody a jejích zákonů\, sladíme se se svým životem a zrodíme své Já\, své nové životy.To je plán\, ale jak se znám\, tak ještě před rituálem se budou rodit postupně videa\, která potřebujete právě vy. Ty najdete ve FB skupině\, vždy ve správný čas tak\, aby se lidé lépe společně propojili na okamžik slunovratu.\nKolik tě společný rituál bude stát? \n\nV této chvíli je v aktuální době tento večerní rituál něčím\, co cítím jako poslání. Proto od ohně s blízkými kouzelnými osobami se přesunu společně s vámi do magického světa\, kamkoliv na světě.A abychom já i vy dali jasně najevo ANO\, chci tam být a být přítomen nejenom tělem\, ale i duší\, tak je potřeba udělat krok. Abych mohla pro každého z vás udělat vše k přípravě tohoto okamžiku.Rituály svou hodnotu v hmotném světě vyjadřují těžko.Vyjádřit hodnotu nového života je nemožné\, protože společné prožití rituálu zrodí tvé Já\, tvou spiritualitu i hmotu\, tvé vztahy\, život. \nPomůže žít tvůj sen. \nJaká je hodnota prožitého snu?  \n\n\n\n\n\n\n\n\n\n\n\n\n\nNevím…\nNevyčíslitelná?\nAle…  \nDnes si tedy dáme symbolických 90 Kč. \n  \nBerte to jako DAR. \nJá jsem poslechla energie doby\, „je čas dát do rukou nástroje co nejvíc lidem světa“. Prožít to společně s vámi. \nDnes je čas dát to vám… \n  \nPOJĎME SPOLEČNĚ TVOŘIT LEPŠÍ SVĚT.\n  \nA ještě jeden DAR\, pro ty z vás\, kteří jste členy programu Čas pro duši – slunovratový rituál přijměte jako dar\, za vaši každodenní práci na svém životě a projevenou důvěru\, že vás mohu provázet na této cestě. Stačí nám napsat na email – ANO CHCI BÝT SOUČÁSTÍ SLUNOVRATU – a my vás přivítáme zdarma. \n  \n\nTěším se na vás!\n\nS láskou \n  \nZuzana \n  \nP.S.: Zúčastnit se může kdokoli\, nejsou potřeba žádné znalosti Feng Shui. \nMísto konání: ONLINE \n\n\n\n\n\n\n\n\n\n\n  \n\n\n\n\nobjednávejte ZDE\n\n  \n 
URL:https://adamfengshui.cz/event/21-12-slunovrat-2022-s-adam-feng-shui/
LOCATION:Online
CATEGORIES:Večerní semináře Feng Shui,Zuzana Adam
ATTACH;FMTTYPE=image/jpeg:https://adamfengshui.cz/wp-content/uploads/2022/12/319876315_1297563971033923_640592847830043338_n.jpg
ORGANIZER;CN="Zuzana Adam":MAILTO:info@adamfengshui.cz
END:VEVENT
END:VCALENDAR