BEGIN:VCALENDAR
VERSION:2.0
PRODID:-//Adam Feng Shui - ECPv6.15.20//NONSGML v1.0//EN
CALSCALE:GREGORIAN
METHOD:PUBLISH
X-ORIGINAL-URL:https://adamfengshui.cz
X-WR-CALDESC:Akce na Adam Feng Shui
REFRESH-INTERVAL;VALUE=DURATION:PT1H
X-Robots-Tag:noindex
X-PUBLISHED-TTL:PT1H
BEGIN:VTIMEZONE
TZID:Europe/Prague
BEGIN:DAYLIGHT
TZOFFSETFROM:+0100
TZOFFSETTO:+0200
TZNAME:CEST
DTSTART:20170326T010000
END:DAYLIGHT
BEGIN:STANDARD
TZOFFSETFROM:+0200
TZOFFSETTO:+0100
TZNAME:CET
DTSTART:20171029T010000
END:STANDARD
BEGIN:DAYLIGHT
TZOFFSETFROM:+0100
TZOFFSETTO:+0200
TZNAME:CEST
DTSTART:20180325T010000
END:DAYLIGHT
BEGIN:STANDARD
TZOFFSETFROM:+0200
TZOFFSETTO:+0100
TZNAME:CET
DTSTART:20181028T010000
END:STANDARD
BEGIN:DAYLIGHT
TZOFFSETFROM:+0100
TZOFFSETTO:+0200
TZNAME:CEST
DTSTART:20190331T010000
END:DAYLIGHT
BEGIN:STANDARD
TZOFFSETFROM:+0200
TZOFFSETTO:+0100
TZNAME:CET
DTSTART:20191027T010000
END:STANDARD
END:VTIMEZONE
BEGIN:VEVENT
DTSTART;TZID=Europe/Prague:20181117T100000
DTEND;TZID=Europe/Prague:20181118T140000
DTSTAMP:20260420T173154
CREATED:20181030T150327Z
LAST-MODIFIED:20181030T150635Z
UID:12672-1542448800-1542549600@adamfengshui.cz
SUMMARY:Praha - Feng Shui - Osud ve vlastních rukou
DESCRIPTION:Praktický prožitkový víkendový seminář. \nTéma minulosti\, rodové linie\, karmy a našeho osudu bude provázet víkendový workshop\, plný prožitků.\nPřímo ve vašem prostoru si představíme\, kde můžeme podpořit zpracování těchto témat a využít sílu našeho domova k podpoře od našich předků v řadě mnoha století. Kde hledat v prostoru projevy\, které ovlivňují náš život? \n \nJak rozmotat propletence dávných křivd\, které jsou pro nás zátěží v těchto i nastávajících dnech a jak pomoci rozmotávat své stigmata karmy\, na kterých jsme se rozhodli pracovat. \n  \nPráce s vaším Astrotypem a úprava vašeho prostoru s ohledem na něj. \nPro účast na semináři nejsou nutné žádné předchozí znalosti Feng Shui. \n  \nKrátce z programu: \n  \n\nkterá část našeho prostoru se pojí s jakými tématy naší minulosti\njak poznat prostor\, který podpoří čištění našich křiv a naopak\nrituály pro posílení a napojení na dílu rodu\nkrok za krokem k zjednodušení života\, bez karmického zatížení\nsilná místa v prostoru pro vaši osobu\ntipy pro podporu z minulosti v roce Psa\nharmonizace  prostoru\nnápravy pro váš individuální prostor\npraktické návody\, jak zpracovávat téma minulosti v každodenním životě\njak se nenechat ovlivňovat pro kroky budoucí svou minulostí\n\n \n  \nTo vše spojené s příjemným i relaxačními cvičeními a  magickými rituály pro váš byt a vaši duši. \n  \nS sebou:  plánek svého bytu\, pastelky\, psací potřeby\, pohodlné oblečení\, deku a dobrou náladu… \nobjednávejte ZDE\nSobota 10-20 hod s obědovou pauzou (na oběd si je možné dojít) a delší pauza na jídlo před večerním programem (svačiny s sebou) \nNeděle 9-14 bez obědové pauzy (svačiny s sebou) \nPS: možnost přespání na místě ve vlastním spacáku
URL:https://adamfengshui.cz/event/praha-feng-shui-osud-ve-vlastnich-rukou/
LOCATION:Maitasuna\, Ježkova 14\, Praha 3\, 13000\, Česká republika
CATEGORIES:Praha,Prodáváme,Workshopy a semináře Feng Shui Academy,Zuzana Adam
ATTACH;FMTTYPE=image/jpeg:https://adamfengshui.cz/wp-content/uploads/2018/10/clock-2133825_1920.jpg
ORGANIZER;CN="V%C4%9Bra Erbenov%C3%A1":MAILTO:vera.erbenova@adamfengshui.cz
END:VEVENT
END:VCALENDAR