BEGIN:VCALENDAR
VERSION:2.0
PRODID:-//Adam Feng Shui - ECPv6.15.20//NONSGML v1.0//EN
CALSCALE:GREGORIAN
METHOD:PUBLISH
X-WR-CALNAME:Adam Feng Shui
X-ORIGINAL-URL:https://adamfengshui.cz
X-WR-CALDESC:Akce na Adam Feng Shui
REFRESH-INTERVAL;VALUE=DURATION:PT1H
X-Robots-Tag:noindex
X-PUBLISHED-TTL:PT1H
BEGIN:VTIMEZONE
TZID:Europe/Prague
BEGIN:DAYLIGHT
TZOFFSETFROM:+0100
TZOFFSETTO:+0200
TZNAME:CEST
DTSTART:20220327T010000
END:DAYLIGHT
BEGIN:STANDARD
TZOFFSETFROM:+0200
TZOFFSETTO:+0100
TZNAME:CET
DTSTART:20221030T010000
END:STANDARD
BEGIN:DAYLIGHT
TZOFFSETFROM:+0100
TZOFFSETTO:+0200
TZNAME:CEST
DTSTART:20230326T010000
END:DAYLIGHT
BEGIN:STANDARD
TZOFFSETFROM:+0200
TZOFFSETTO:+0100
TZNAME:CET
DTSTART:20231029T010000
END:STANDARD
BEGIN:DAYLIGHT
TZOFFSETFROM:+0100
TZOFFSETTO:+0200
TZNAME:CEST
DTSTART:20240331T010000
END:DAYLIGHT
BEGIN:STANDARD
TZOFFSETFROM:+0200
TZOFFSETTO:+0100
TZNAME:CET
DTSTART:20241027T010000
END:STANDARD
END:VTIMEZONE
BEGIN:VEVENT
DTSTART;TZID=Europe/Prague:20231028T200000
DTEND;TZID=Europe/Prague:20231028T210000
DTSTAMP:20260420T205217
CREATED:20231021T091816Z
LAST-MODIFIED:20231021T091816Z
UID:18708-1698523200-1698526800@adamfengshui.cz
SUMMARY:28.10.2023 - Zatmění Luny a úplněk s Adam Feng Shui
DESCRIPTION:Zatmění luny a úplněk v býku s Adam Feng Shui\n28. října 2023 – ONLINE \n\n\n\n\n\n\n\n\n\n\n  \nPojďme společně prožít nejsilnější moment aktuálního období. \nAno\, zatmění luny a úplněk v Býku.\nObdobí znovuzrození\, transformace a uzdravení našich vztahů. Otevření se novým příležitostem pro náš osobní růst a růst všeho\, k zhmotnění. \nO síle  aktuálních energiích letících hvězd které nám umožňují překročit vlastní stín jsem mluvila. A k této obrovské síle přichází vrcholný okamžik všech transformací\, a to je zatmění -tentokráte v znamení Býka kde slunce stojí v znamení štíra. Čeká na nás hlubinné poléčení a očista našich vztahů partnerských ale i vztahů jako takových a spoluprací v životě. Odpustit všechny staré rány\, které provázeli naše partnerské vztahy a formovali tak náš aktuální vztah a i ty budoucí. \nNepolevit a dotáhnout to do posledního kroku naší cesty osobních změn. To je to\, co pro sebe můžeme a měli bychom udělat. \nA tak pojďme společně tento okamžik prožít v rituálu\, který bude zaměřen na úplněk a okamžik zatmění luny\, oživení našeho vnitřního světla v každé naší buňce. A tedy hlavně našeho nového Já ve vztazích v našem životě. Odložit strachy\, křivdy trápení a vše\, co už dále nechceme do tmy starého a s novým se zrodit. Transcendovat. \nChci využít tuto energii\, chci změnit\, chci udělat skok… Ale jak? \n\nNečekejte\, že přijde síla zvenčí. Tato síla je uvnitř nás. Pojďme všechny vědomosti\, které načerpáváme\, vyzkoušet v praxi. \nČeká na nás neuvěřitelně silný okamžik.\nČeká na nás mnoho zlomových okamžiků a je na nás\, jestli se budeme dívat\, jak ty zlomové okamžiky někdo tvoří\, nebo jestli tyto okamžiky budeme tvořit společně. \nA cesty jsou….. \nJe na vás jestli\, a kterou si vyberete. \nKDY JINDY\, KDYŽ NE TEĎ\nStartujeme 28.10.2023\n\nSpolečně tentokráte na HeroHero  v rituálu zatmění uctíme sílu přírody a jejích zákonů\, sladíme se se svým životem a zrodíme své Já\, své nové životy. To je plán\, ale jak se znám\, tak ještě před rituálem se budou rodit postupně videa\, která potřebujete právě vy. Ty najdete na HeroHero\, vždy ve správný čas tak\, aby se lidé lépe společně propojili na okamžik zatmění slunce.\n  \n\n\n\n\n\n\n\n\n\n\n\n\nPOJĎME SPOLEČNĚ TVOŘIT LEPŠÍ SVĚT.\n  \nRituál zatmění přijměte jako dar\, za vaši každodenní práci na svém životě a projevenou důvěru\, že vás mohu provázet na této cestě. Stačí se 28.10 připojit. \n  \n\nTěším se na vás!\n\nS láskou \n  \nZuzana \n  \nP.S.: Zúčastnit se může kdokoli\, nejsou potřeba žádné znalosti Feng Shui. \nMísto konání: ONLINE \n\n\n\n\n\n\n\n\nna HeroHero mate k dispozici i další videa jako přípravu a říjnové energie – můžete je využít na přípravu – víc info a objednávka ZDE\n\n\n\n\n 
URL:https://adamfengshui.cz/event/28-10-2023-zatmeni-luny-a-uplnek-s-adam-feng-shui/
LOCATION:Online
CATEGORIES:Večerní semináře Feng Shui,Zuzana Adam
ATTACH;FMTTYPE=image/jpeg:https://adamfengshui.cz/wp-content/uploads/2023/10/lunar-6248587_1280.jpg
ORGANIZER;CN="Zuzana Adam":MAILTO:info@adamfengshui.cz
END:VEVENT
BEGIN:VEVENT
DTSTART;TZID=Europe/Prague:20231014T200000
DTEND;TZID=Europe/Prague:20231014T213000
DTSTAMP:20260420T205217
CREATED:20231007T141312Z
LAST-MODIFIED:20231010T115351Z
UID:18671-1697313600-1697319000@adamfengshui.cz
SUMMARY:14.10.2023 - Zatmění Slunce a Novoluní s Adam Feng Shui
DESCRIPTION:Zatmění slunce a novoluní ve Vahách s Adam Feng Shui\n14. října 2023 – ONLINE \n\n\n\n\n\n\n\n\n\n\n  \nJiž několik dní mi každou noc do snů přichází jeden silný moment. A to společné prožití nejsilnějšího momentu pro vztahy tohoto období. \nAno\, zatmění slunce a novoluní ve Vahách.\nObdobí znovuzrození\, transformace a uzdravení našich vztahů. Zrození nového. \nO síle  aktuálních energiích letících hvězd které nám umožňují překročit vlastní stín jsem mluvila. A k této obrovské síle přichází vrcholný okamžik všech transformací\, a to je zatmění -tentokráte v znamení Vah\, které je spojováno se vztahy partnerskými ale i vztahy jako takovými a spoluprací v životě. Odpustit všechny staré rány\, které provázeli naše partnerské vztahy a formovali tak náš aktuální vztah a i ty budoucí. \nNepolevit a dotáhnout to do posledního kroku naší cesty osobních změn. To je to\, co pro sebe můžeme a měli bychom udělat. \nA tak pojďme společně tento okamžik prožít v rituálu\, který bude zaměřen na novoluní a okamžik zatmění slunce\,  znovuzrození světla\, života. A tedy hlavně našeho nového Já ve vztazích v našem životě. Odložit strachy\, křívdy trápení a vše\, co už dále nechceme do tmy starého a s novým se zrodit. Transcendovat. \nChci využít tuto energii\, chci změnit\, chci udělat skok… Ale jak? \n\nNečekejte\, že přijde síla zvenčí. Tato síla je uvnitř nás. Pojďme všechny vědomosti\, které načerpáváme\, vyzkoušet v praxi. \nČeká na nás neuvěřitelně silný okamžik.\nČeká na nás mnoho zlomových okamžiků a je na nás\, jestli se budeme dívat\, jak ty zlomové okamžiky někdo tvoří\, nebo jestli tyto okamžiky budeme tvořit společně. \nA cesty jsou….. \nJe na vás jestli\, a kterou si vyberete. \nKDY JINDY\, KDYŽ NE TEĎ\nStartujeme 14.10.2023\n\nSpolečně tentokráte na HeroHero  v rituálu zatmění uctíme sílu přírody a jejích zákonů\, sladíme se se svým životem a zrodíme své Já\, své nové životy. To je plán\, ale jak se znám\, tak ještě před rituálem se budou rodit postupně videa\, která potřebujete právě vy. Ty najdete na HeroHero\, vždy ve správný čas tak\, aby se lidé lépe společně propojili na okamžik zatmění slunce.\n  \n\n\n\n\n\n\n\n\n\n\n\n\nPOJĎME SPOLEČNĚ TVOŘIT LEPŠÍ SVĚT.\n  \nRituál zatmění přijměte jako dar\, za vaši každodenní práci na svém životě a projevenou důvěru\, že vás mohu provázet na této cestě. Stačí se 14.10 připojit. \n  \n\nTěším se na vás!\n\nS láskou \n  \nZuzana \n  \nP.S.: Zúčastnit se může kdokoli\, nejsou potřeba žádné znalosti Feng Shui. \nMísto konání: ONLINE \n\n\n\n\n\n\n\n\nna HeroHero mate k dispozici i další videa jako přípravu a říjnové energie – můžete je využít na přípravu – víc info a objednávka ZDE\n\n\n\n\n 
URL:https://adamfengshui.cz/event/14-10-2023-zatmeni-slunce-a-novoluni-s-adam-feng-shui/
LOCATION:Online
CATEGORIES:Večerní semináře Feng Shui,Zuzana Adam
ATTACH;FMTTYPE=image/png:https://adamfengshui.cz/wp-content/uploads/2023/10/science-1925058_1280.png
ORGANIZER;CN="Zuzana Adam":MAILTO:info@adamfengshui.cz
END:VEVENT
END:VCALENDAR