BEGIN:VCALENDAR
VERSION:2.0
PRODID:-//Adam Feng Shui - ECPv6.15.20//NONSGML v1.0//EN
CALSCALE:GREGORIAN
METHOD:PUBLISH
X-ORIGINAL-URL:https://adamfengshui.cz
X-WR-CALDESC:Akce na Adam Feng Shui
REFRESH-INTERVAL;VALUE=DURATION:PT1H
X-Robots-Tag:noindex
X-PUBLISHED-TTL:PT1H
BEGIN:VTIMEZONE
TZID:Europe/Prague
BEGIN:DAYLIGHT
TZOFFSETFROM:+0100
TZOFFSETTO:+0200
TZNAME:CEST
DTSTART:20160327T010000
END:DAYLIGHT
BEGIN:STANDARD
TZOFFSETFROM:+0200
TZOFFSETTO:+0100
TZNAME:CET
DTSTART:20161030T010000
END:STANDARD
BEGIN:DAYLIGHT
TZOFFSETFROM:+0100
TZOFFSETTO:+0200
TZNAME:CEST
DTSTART:20170326T010000
END:DAYLIGHT
BEGIN:STANDARD
TZOFFSETFROM:+0200
TZOFFSETTO:+0100
TZNAME:CET
DTSTART:20171029T010000
END:STANDARD
BEGIN:DAYLIGHT
TZOFFSETFROM:+0100
TZOFFSETTO:+0200
TZNAME:CEST
DTSTART:20180325T010000
END:DAYLIGHT
BEGIN:STANDARD
TZOFFSETFROM:+0200
TZOFFSETTO:+0100
TZNAME:CET
DTSTART:20181028T010000
END:STANDARD
END:VTIMEZONE
BEGIN:VEVENT
DTSTART;TZID=Europe/Prague:20170130T170000
DTEND;TZID=Europe/Prague:20170130T220000
DTSTAMP:20260420T135618
CREATED:20170103T143016Z
LAST-MODIFIED:20170103T143016Z
UID:10342-1485795600-1485813600@adamfengshui.cz
SUMMARY:Opava – Feng Shui – Magický rok Kohouta a letící hvězda roku 2017
DESCRIPTION:Krátce z programu: \n  \n\njaký bude rok Ohnivého Kohouta\nco přinese jednotlivým znamením\nrituály pro prvních 15 dní nového čínského roku\nléčby pro Váš domov pro rok Kohouta – letící hvězda a její nástrahy\nvyužijte silná místa letící hvězdy ve svém domě pro posílení ročního štěstí a BOHATSTVÍ\ntipy na ochranu vztahů v roce Kohouta\ntipy na zlepšení rodinného a manželského života v roce Kohouta\ntipy na ochranu vašeho majetku\, peněz\, cenností a životního stylu\nrituály k šťastnému vykročení do nového roku\nvytvořte si svůj vlastní vizuál pro rok 2017\n\n  \nTo vše spojené s příjemnými relaxačními cvičeními a  magickými rituály pro váš byt a vaši duši. \n  \nS sebou: staré obrázkové časopisy\, lepidlo\, nůžky\, plánek svého bytu\, pastelky\, psací potřeby\, pohodlné oblečení\, deku a dobrou náladu… \nobjednávejte ZDE
URL:https://adamfengshui.cz/event/opava-feng-shui-magicky-rok-kohouta-letici-hvezda-roku-2017/
CATEGORIES:Celodenní workshopy Feng Shui,Opava,Workshopy a semináře Feng Shui Academy,Zuzana Adam
ATTACH;FMTTYPE=:
END:VEVENT
BEGIN:VEVENT
DTSTART;TZID=Europe/Prague:20170126T170000
DTEND;TZID=Europe/Prague:20170126T220000
DTSTAMP:20260420T135618
CREATED:20161220T134143Z
LAST-MODIFIED:20161220T134143Z
UID:10224-1485450000-1485468000@adamfengshui.cz
SUMMARY:Praha – Feng Shui – Magický rok Kohouta a letící hvězda roku 2017
DESCRIPTION:Krátce z programu: \n  \n\njaký bude rok Ohnivého Kohouta\nco přinese jednotlivým znamením\nrituály pro prvních 15 dní nového čínského roku\nléčby pro Váš domov pro rok Kohouta – letící hvězda a její nástrahy\nvyužijte silná místa letící hvězdy ve svém domě pro posílení ročního štěstí a BOHATSTVÍ\ntipy na ochranu vztahů v roce Kohouta\ntipy na zlepšení rodinného a manželského života v roce Kohouta\ntipy na ochranu vašeho majetku\, peněz\, cenností a životního stylu\nrituály k šťastnému vykročení do nového roku\nvytvořte si svůj vlastní vizuál pro rok 2017\n\n  \nTo vše spojené s příjemnými relaxačními cvičeními a  magickými rituály pro váš byt a vaši duši. \n  \nS sebou: staré obrázkové časopisy\, lepidlo\, nůžky\, plánek svého bytu\, pastelky\, psací potřeby\, pohodlné oblečení\, deku a dobrou náladu… \nobjednávejte ZDE
URL:https://adamfengshui.cz/event/praha-feng-shui-magicky-rok-kohouta-letici-hvezda-roku-2017/
LOCATION:Centrum osobního rozvoje – Equilibré\, Orelská 11\, Praha 10 - Vršovice\, 10000\, Česká republika
CATEGORIES:Celodenní workshopy Feng Shui,Praha,Workshopy a semináře Feng Shui Academy,Zuzana Adam
ATTACH;FMTTYPE=:
END:VEVENT
END:VCALENDAR