BEGIN:VCALENDAR
VERSION:2.0
PRODID:-//Adam Feng Shui - ECPv6.15.20//NONSGML v1.0//EN
CALSCALE:GREGORIAN
METHOD:PUBLISH
X-ORIGINAL-URL:https://adamfengshui.cz
X-WR-CALDESC:Akce na Adam Feng Shui
REFRESH-INTERVAL;VALUE=DURATION:PT1H
X-Robots-Tag:noindex
X-PUBLISHED-TTL:PT1H
BEGIN:VTIMEZONE
TZID:Europe/Prague
BEGIN:DAYLIGHT
TZOFFSETFROM:+0100
TZOFFSETTO:+0200
TZNAME:CEST
DTSTART:20180325T010000
END:DAYLIGHT
BEGIN:STANDARD
TZOFFSETFROM:+0200
TZOFFSETTO:+0100
TZNAME:CET
DTSTART:20181028T010000
END:STANDARD
BEGIN:DAYLIGHT
TZOFFSETFROM:+0100
TZOFFSETTO:+0200
TZNAME:CEST
DTSTART:20190331T010000
END:DAYLIGHT
BEGIN:STANDARD
TZOFFSETFROM:+0200
TZOFFSETTO:+0100
TZNAME:CET
DTSTART:20191027T010000
END:STANDARD
BEGIN:DAYLIGHT
TZOFFSETFROM:+0100
TZOFFSETTO:+0200
TZNAME:CEST
DTSTART:20200329T010000
END:DAYLIGHT
BEGIN:STANDARD
TZOFFSETFROM:+0200
TZOFFSETTO:+0100
TZNAME:CET
DTSTART:20201025T010000
END:STANDARD
END:VTIMEZONE
BEGIN:VEVENT
DTSTART;TZID=Europe/Prague:20190907T130000
DTEND;TZID=Europe/Prague:20190907T200000
DTSTAMP:20260420T173154
CREATED:20190625T192628Z
LAST-MODIFIED:20190905T083207Z
UID:13224-1567861200-1567886400@adamfengshui.cz
SUMMARY:Feng Shui života
DESCRIPTION:  \nNastartujte společně s námi druhou polovinu roku!\nDovolte si čas pro sebe a přijďte na prožitkový seminář „Feng Shui života“\, kde budeme ladit harmonii vnitřní i vnější. \n  \n  \nZ programu semináře: \n– Zuzana Adam a hosté Martina Ježková (ředitelka volnočasové organizace Betynka)\, Jana Vožechová (ředitelka Nadace Rozvoje Občanské Společnosti)\, Jana Emma Spodniaková (Podnikatelka\, taktický stratég a power kouč)  a další zajímaví hosté \n– seznámení s prací s prostorem\n– energie uvnitř nás a v prostoru\, ve kterém žijeme\n– jak zpracovat emoce skrze prostor\n– emoce v BaGua\n– workshopy \n– vědomé rodičovství v propojení s prostorem dětí s Martinou Ježkovou \n– do roka a do dne splněné sny – příběh Jany Vožechové  \n– Feng Shui v podnikání a životě – příběh Jany Emmy Spodniakové \n– možná přijde i kouzelník 🙂 \n  \n– Občerstvení na akci nám připraví Paní Dýně… budete si moci koupit kávu\, teplé i studené nápoje… obložené chleby s domácí pomazánkou\, slané i sladké koláče a čokoládové pralinky. \nhttps://pani-dyne.cz/ \n \n  \nTěšíme se na vás! \n  \nPředprodej vstupenek:  490 Kč \n(Cena na místě: 1190 Kč) \n  \nobjednávejte ZDE\nTěším se na vás \n  \nZuzana Adam \n  \n 
URL:https://adamfengshui.cz/event/feng-shui-zivota/
LOCATION:Vršovické nám. 2/111\, 101 00\, Praha 10\, Vršovické náměstí 2/111\, Praha 10\, Praha\, 10100\, Česká republika
CATEGORIES:Celodenní workshopy Feng Shui,Praha,Prodáváme,Workshopy a semináře Feng Shui Academy,Zuzana Adam
ATTACH;FMTTYPE=image/jpeg:https://adamfengshui.cz/wp-content/uploads/2019/06/paper-3149117_1920.jpg
ORGANIZER;CN="Zuzana Adam":MAILTO:info@adamfengshui.cz
END:VEVENT
END:VCALENDAR