BEGIN:VCALENDAR
VERSION:2.0
PRODID:-//Adam Feng Shui - ECPv6.15.20//NONSGML v1.0//EN
CALSCALE:GREGORIAN
METHOD:PUBLISH
X-WR-CALNAME:Adam Feng Shui
X-ORIGINAL-URL:https://adamfengshui.cz
X-WR-CALDESC:Akce na Adam Feng Shui
REFRESH-INTERVAL;VALUE=DURATION:PT1H
X-Robots-Tag:noindex
X-PUBLISHED-TTL:PT1H
BEGIN:VTIMEZONE
TZID:Europe/Prague
BEGIN:DAYLIGHT
TZOFFSETFROM:+0100
TZOFFSETTO:+0200
TZNAME:CEST
DTSTART:20150329T010000
END:DAYLIGHT
BEGIN:STANDARD
TZOFFSETFROM:+0200
TZOFFSETTO:+0100
TZNAME:CET
DTSTART:20151025T010000
END:STANDARD
BEGIN:DAYLIGHT
TZOFFSETFROM:+0100
TZOFFSETTO:+0200
TZNAME:CEST
DTSTART:20160327T010000
END:DAYLIGHT
BEGIN:STANDARD
TZOFFSETFROM:+0200
TZOFFSETTO:+0100
TZNAME:CET
DTSTART:20161030T010000
END:STANDARD
BEGIN:DAYLIGHT
TZOFFSETFROM:+0100
TZOFFSETTO:+0200
TZNAME:CEST
DTSTART:20170326T010000
END:DAYLIGHT
BEGIN:STANDARD
TZOFFSETFROM:+0200
TZOFFSETTO:+0100
TZNAME:CET
DTSTART:20171029T010000
END:STANDARD
END:VTIMEZONE
BEGIN:VEVENT
DTSTART;TZID=Europe/Prague:20160920T173000
DTEND;TZID=Europe/Prague:20160920T193000
DTSTAMP:20260419T220946
CREATED:20160810T131617Z
LAST-MODIFIED:20160810T131617Z
UID:9307-1474392600-1474399800@adamfengshui.cz
SUMMARY:Vysoké Mýto - Večerní školička Adam Feng Shui - Nová třída 1. lekce
DESCRIPTION:Večerní školička Adam Feng Shui\,\n první škola\, kterou si zamilujete. \nVÁŠ DOMOV JE 24 HODIN DENNĚ PŘIPRAVENÝ PLNIT VAŠE SNY A PŘÁNÍ \nZní to neuvěřitelně?\nPrávě v této chvíli také pracuje na Vaší objednávce.\nA už záleží jen na Vás\, co si právě objednáváte. \nTrápí Vás Vaše zdraví?\nRádi cestujete\, ale zatím jen prstem po mapě?\nNebo byste chtěli najít partnera\, po kterém toužíte?\nA co Vaše peníze? Máte jich dostatek?\nJe Vaše práce Vaším koníčkem?\nA nebo jste se stali součástí každodenního koloběhu\, kde nemáte prostor na svoje sny a přání? \nV naší večerní školičce Vás naučíme krok za krokem\, jak si zharmonizovat Váš domov. \nPředstavte si\,\njaké by to bylo skvělé mít práci\, po které toužíte\,\nsplnit si Vaše sny o cestování\,\ntěšit se pevnému zdraví\,\nmít dostatek peněz\,\nvyrovnané vztahy\,\nnebo …? \nVáš domov je připravený.\nA co Vy? \nUdělejte první krok a přijďte mezi nás. \nČeká nás 13 dvouhodinových večerů \nVečerní školička ve Vysokém Mýtě se otevírá 20.9.2016. \nMísto konání Vám upřesním a pošlu na Vaši e-mailovou adresu. \nBudeme se setkávat 1x za měsíc od 18:00 do 20:00hod. \nREZERVOVAT MÍSTO\nPokud vám termín nevyhovuje\, prosím napište nám. \nŠkolička ve Vašem městě bude otevřená\, pokud do termínu uzávěrky bude přihlášený minimální počet studentů. Proto neváhejte a rezervujte si místo\, abychom mohli přijet přímo k Vám. \nO otevření třídy\, termínu a místě budete obratem informováni lektorem. Proto pokud chcete školičku ve vašem městě\, projevte svůj zájem rezervací\, abychom my věděli počet zájemců \nDěkujeme a těšíme se na Vás osobně. \nHana Kopecká  za Adam Feng Shui \nREZERVOVAT MÍSTO\nNOVĚ si můžete zakoupit JEN lekci\, která vás zajímá\n1 lekce = 450 Kč \nZvýhodněná cena: \n5 lekcí = 2000 Kč (platnost pernamentky 6 měsíců od zakoupení) \n10 lekcí = 3500 Kč (platnost pernamentky 12 měsíců od zakoupení)
URL:https://adamfengshui.cz/event/vysoke-myto-vecerni-skolicka-adam-feng-shui-nova-trida-1-lekce/
LOCATION:Vegetariánská jídelna Zahrada\, Pražská 251\, Vysoké Mýto
CATEGORIES:Hana Kopecká,Prodáváme,Večerní semináře Feng Shui,Vysoké Mýto,Workshopy a semináře Feng Shui Academy
ATTACH;FMTTYPE=:
END:VEVENT
BEGIN:VEVENT
DTSTART;TZID=Europe/Prague:20160412T173000
DTEND;TZID=Europe/Prague:20160412T193000
DTSTAMP:20260419T220946
CREATED:20160316T172140Z
LAST-MODIFIED:20160316T172140Z
UID:8548-1460482200-1460489400@adamfengshui.cz
SUMMARY:Vysoké Mýto - 3 pilíře štěstí s Feng Shui
DESCRIPTION:Vytvořte si hezký domov. Zlepšete si život skrze svůj dům\, byt nebo kancelář.\n\nJaké jsou tři nejdůležitější pilíře\, které do vašeho života přinesou štěstí\, lásku\, zdraví a finance?\n\nProžitkový večer s Adam Feng Shui.\n\n[maxbutton id=“1″]
URL:https://adamfengshui.cz/event/vysoke-myto-3-pilire-stesti-s-feng-shui/
LOCATION:Vegetariánská jídelna Zahrada\, Pražská 251\, Vysoké Mýto
CATEGORIES:Hana Kopecká,Prodáváme,Večerní semináře Feng Shui,Vysoké Mýto,Workshopy a semináře Feng Shui Academy
ATTACH;FMTTYPE=:
END:VEVENT
END:VCALENDAR