BEGIN:VCALENDAR
VERSION:2.0
PRODID:-//Adam Feng Shui - ECPv6.15.20//NONSGML v1.0//EN
CALSCALE:GREGORIAN
METHOD:PUBLISH
X-ORIGINAL-URL:https://adamfengshui.cz
X-WR-CALDESC:Akce na Adam Feng Shui
REFRESH-INTERVAL;VALUE=DURATION:PT1H
X-Robots-Tag:noindex
X-PUBLISHED-TTL:PT1H
BEGIN:VTIMEZONE
TZID:Europe/Prague
BEGIN:DAYLIGHT
TZOFFSETFROM:+0100
TZOFFSETTO:+0200
TZNAME:CEST
DTSTART:20150329T010000
END:DAYLIGHT
BEGIN:STANDARD
TZOFFSETFROM:+0200
TZOFFSETTO:+0100
TZNAME:CET
DTSTART:20151025T010000
END:STANDARD
BEGIN:DAYLIGHT
TZOFFSETFROM:+0100
TZOFFSETTO:+0200
TZNAME:CEST
DTSTART:20160327T010000
END:DAYLIGHT
BEGIN:STANDARD
TZOFFSETFROM:+0200
TZOFFSETTO:+0100
TZNAME:CET
DTSTART:20161030T010000
END:STANDARD
BEGIN:DAYLIGHT
TZOFFSETFROM:+0100
TZOFFSETTO:+0200
TZNAME:CEST
DTSTART:20170326T010000
END:DAYLIGHT
BEGIN:STANDARD
TZOFFSETFROM:+0200
TZOFFSETTO:+0100
TZNAME:CET
DTSTART:20171029T010000
END:STANDARD
END:VTIMEZONE
BEGIN:VEVENT
DTSTART;TZID=Europe/Prague:20160621T180000
DTEND;TZID=Europe/Prague:20160621T210000
DTSTAMP:20260421T230511
CREATED:20160612T190907Z
LAST-MODIFIED:20160612T190907Z
UID:8900-1466532000-1466542800@adamfengshui.cz
SUMMARY:Týn nad Vltavou - Tři pilíře štěstí s Feng Shui
DESCRIPTION:Tři pilíře štěstí \nVytvořte si hezký domov. Zlepšete svůj život\, vztahy\, finance a zdraví skrze svůj domov nebo kancelář. \nJaké jsou tři nejdůležitější pilíře\, které do vašeho života přinesou štěstí\, lásku\, zdraví a finance? \nZveme vás na prožitkový večer s Feng Shui. \n[maxbutton id=“1″]
URL:https://adamfengshui.cz/event/tyn-nad-vltavou-tri-pilire-stesti-s-feng-shui/
LOCATION:MěDD Týn nad Vltavou\, Tyršova 26\, Týn nad Vltavou
CATEGORIES:Lenka Hrazdírová,Prodáváme,Týn nad Vltavou,Večerní semináře Feng Shui,Workshopy a semináře Feng Shui Academy
ATTACH;FMTTYPE=:
END:VEVENT
END:VCALENDAR