BEGIN:VCALENDAR
VERSION:2.0
PRODID:-//Adam Feng Shui - ECPv6.15.20//NONSGML v1.0//EN
CALSCALE:GREGORIAN
METHOD:PUBLISH
X-ORIGINAL-URL:https://adamfengshui.cz
X-WR-CALDESC:Akce na Adam Feng Shui
REFRESH-INTERVAL;VALUE=DURATION:PT1H
X-Robots-Tag:noindex
X-PUBLISHED-TTL:PT1H
BEGIN:VTIMEZONE
TZID:Europe/Prague
BEGIN:DAYLIGHT
TZOFFSETFROM:+0100
TZOFFSETTO:+0200
TZNAME:CEST
DTSTART:20130331T010000
END:DAYLIGHT
BEGIN:STANDARD
TZOFFSETFROM:+0200
TZOFFSETTO:+0100
TZNAME:CET
DTSTART:20131027T010000
END:STANDARD
BEGIN:DAYLIGHT
TZOFFSETFROM:+0100
TZOFFSETTO:+0200
TZNAME:CEST
DTSTART:20140330T010000
END:DAYLIGHT
BEGIN:STANDARD
TZOFFSETFROM:+0200
TZOFFSETTO:+0100
TZNAME:CET
DTSTART:20141026T010000
END:STANDARD
BEGIN:DAYLIGHT
TZOFFSETFROM:+0100
TZOFFSETTO:+0200
TZNAME:CEST
DTSTART:20150329T010000
END:DAYLIGHT
BEGIN:STANDARD
TZOFFSETFROM:+0200
TZOFFSETTO:+0100
TZNAME:CET
DTSTART:20151025T010000
END:STANDARD
BEGIN:DAYLIGHT
TZOFFSETFROM:+0100
TZOFFSETTO:+0200
TZNAME:CEST
DTSTART:20160327T010000
END:DAYLIGHT
BEGIN:STANDARD
TZOFFSETFROM:+0200
TZOFFSETTO:+0100
TZNAME:CET
DTSTART:20161030T010000
END:STANDARD
BEGIN:DAYLIGHT
TZOFFSETFROM:+0100
TZOFFSETTO:+0200
TZNAME:CEST
DTSTART:20170326T010000
END:DAYLIGHT
BEGIN:STANDARD
TZOFFSETFROM:+0200
TZOFFSETTO:+0100
TZNAME:CET
DTSTART:20171029T010000
END:STANDARD
END:VTIMEZONE
BEGIN:VTIMEZONE
TZID:UTC
BEGIN:STANDARD
TZOFFSETFROM:+0000
TZOFFSETTO:+0000
TZNAME:UTC
DTSTART:20150101T000000
END:STANDARD
END:VTIMEZONE
BEGIN:VEVENT
DTSTART;TZID=Europe/Prague:20160426T180000
DTEND;TZID=Europe/Prague:20160426T200000
DTSTAMP:20260424T102051
CREATED:20160207T163651Z
LAST-MODIFIED:20160207T163651Z
UID:8406-1461693600-1461700800@adamfengshui.cz
SUMMARY:Plzeň - A - večerní školička Feng Shui
DESCRIPTION:  \nJak dosáhnout splnění svých snů? Plním si své cíle a triumfuji v životě? \nJak jsem úspěšný a oceňovaný? \nRezervovat místo \n  \n 
URL:https://adamfengshui.cz/event/plzen-vecerni-skolicka-feng-shui-dosazeni-cile-uspechy/
LOCATION:Zbrojnická 1\, Zbrojnická 1\, Plzeň\, Česká republika
CATEGORIES:Plzeň,Večerní semináře Feng Shui,Věra Erbenová
ATTACH;FMTTYPE=image/jpeg:https://adamfengshui.cz/wp-content/uploads/2017/08/ZuzkaM-150x150.jpg
ORGANIZER;CN="V%C4%9Bra Erbenov%C3%A1":MAILTO:vera.erbenova@adamfengshui.cz
END:VEVENT
BEGIN:VEVENT
DTSTART;TZID=Europe/Prague:20160412T180000
DTEND;TZID=Europe/Prague:20160412T200000
DTSTAMP:20260424T102051
CREATED:20160207T162511Z
LAST-MODIFIED:20160207T162511Z
UID:8402-1460484000-1460491200@adamfengshui.cz
SUMMARY:Plzeň - A - večerní školička Feng Shui
DESCRIPTION:  \nNaše vnitřní síla\, jak ji nalézt\, jak se učit a nalézt sílu do dalších dní. \nSetkání je pro uzavřenou skupinu. \n  \n 
URL:https://adamfengshui.cz/event/plzen-vecerni-skolicka-feng-shui-vnitrni-sila/
LOCATION:Zbrojnická 1\, Zbrojnická 1\, Plzeň\, Česká republika
CATEGORIES:Plzeň,Večerní semináře Feng Shui,Věra Erbenová
ATTACH;FMTTYPE=image/jpeg:https://adamfengshui.cz/wp-content/uploads/2017/08/ZuzkaM-150x150.jpg
ORGANIZER;CN="V%C4%9Bra Erbenov%C3%A1":MAILTO:vera.erbenova@adamfengshui.cz
END:VEVENT
BEGIN:VEVENT
DTSTART;TZID=UTC:20160406T180000
DTEND;TZID=UTC:20160406T200000
DTSTAMP:20260424T102051
CREATED:20160405T201258Z
LAST-MODIFIED:20160405T201258Z
UID:8659-1459965600-1459972800@adamfengshui.cz
SUMMARY:Plzeň - B Večerní školička Adam Feng Shui - nová třída 2016
DESCRIPTION:Večerní školička Adam Feng Shui.  \nV předchozích letech jste se na nás často obraceli s dotazy\, zda existuje možnost zúčastnit se workshopů ve vašich městech. Chceme\, aby bylo Adam Feng Shui přístupné každému\, kdo touží být v harmonii se svým životním prostorem a potřebuje čerpat z okolí sílu a podporu. \nProto jsme pro Vás rozšířili naše aktivity. Chceme být blíž Vám i Vašim životům. Těšíme se\, že budeme i v budoucnu společně hledat a studovat nauky o harmonii. \nCo Vám přinese Večerní školička Adam Feng Shui?  \n– 10 dvouhodinových večerů ve vašem městě. \n– ke každému tématu obdržíte i PLÁN AKCE\, abyste vše mohli začít OKAMŽITĚ aplikovat a začali tak co nejdříve sklízet výsledky u každého konkrétního tématu. \n– povede Vás osobní lektor certifikovaný Adam Feng Shui \nCo vše na Vás ve Večerní školičce čeká? \n* Jak mohu Feng Shui jednoduše uplatnit ve svém životě? \n* Co všechno může můj byt ovlivnit? \n* Jak a kudy proudí energie v mém bytě a jiných prostorech? Jak najít hlavní proud a jeho přítoky a také úniky energie v prostoru. \n* Jak mohu energii v prostoru ovlivnit a pracovat s ní\, aby byla příznivá? \n* Koloběh života v pěti živlech\, jejich projevy a jak to vše zařadit do denního života. \n* Co o nás řekne energetické číslo Ming Kua? Oblíbené poznávání sebe sama a lidí kolem nás na základě data narození. \n* 9 bran prostoru\, které vstupují do našich životů. \n* Vaše životní cesta – první krok\, start a schopnost začít? \n* Vztahy – vůně lásky\, opojnosti a schopnost nebýt sám. \n* Kde Vás tlačí minulost? Co si táhneme do dnešních dní? \n* Hojnost Vašeho života\, bohatství Vašich dní. \n* Pomoc z nebe\, cesty kolem světa a náhody. \n* Tvořivé dítě uvnitř Vás – myslíte\, že ještě zůstalo? Jak ho podpořit a lépe komunikovat? \n* Vnitřní síla\, jak ji nalézt\, jak se učit a načerpat sílu do dalších dní. \n* Dosažení Vašich snů\, cílů\, triumfů\, úspěchů Vašeho života. \n* A spojení toho všeho v harmonii bytí. \nRezervovat místo \nŠkolička ve Vašem městě bude otevřena\, pokud do termínu uzávěrky bude přihlášen minimální počet studentů. Proto neváhejte a rezervujte si místo\, ať můžeme přijít přímo k Vám. \n\nO otevření třídy\, termínu a místě budete obratem informovaní lektorem. Proto pokud chcete školičku ve vašem městě\, projevte svůj zájem rezervací\, abychom my věděli počet zájemců. Děkujeme a těšíme se na Vás osobně. \nTým konzultantů Feng Shui Academy \nRezervovat místo
URL:https://adamfengshui.cz/event/plzen-b-vecerni-skolicka-adam-feng-shui-nova-trida-2016/
LOCATION:Husova 1126/43 Plzeň     Waldorfská základní škola\, Husova 1126/43     Waldorfská základní škola\, Plzeň\, Česká republika
CATEGORIES:Plzeň,Prodáváme,Večerní semináře Feng Shui,Věra Erbenová,Workshopy a semináře Feng Shui Academy
ATTACH;FMTTYPE=image/jpeg:https://adamfengshui.cz/wp-content/uploads/2017/08/ZuzkaM-150x150.jpg
ORGANIZER;CN="V%C4%9Bra Erbenov%C3%A1":MAILTO:vera.erbenova@adamfengshui.cz
END:VEVENT
BEGIN:VEVENT
DTSTART;TZID=Europe/Prague:20160322T180000
DTEND;TZID=Europe/Prague:20160322T200000
DTSTAMP:20260424T102051
CREATED:20160207T161547Z
LAST-MODIFIED:20160207T161547Z
UID:8400-1458669600-1458676800@adamfengshui.cz
SUMMARY:Plzeň - A - večerní školička Feng Shui
DESCRIPTION:Pomoc z nebe\, přátelé a šťastné náhody. \nVěříte ve šťastné náhody? Objeví se v pravou chvíli někdo\, kdo vám nabídne pomocnou ruku? \nA dojde i na naše cestovatelské sny – jak je uskutečnit? \n  \nSetkání je pro uzavřenou skupinu. \n  \n 
URL:https://adamfengshui.cz/event/plzen-vecerni-skolicka-feng-shui-pomoc-z-nebe-pratele-stastne-nahody/
LOCATION:Zbrojnická 1\, Zbrojnická 1\, Plzeň\, Česká republika
CATEGORIES:Plzeň,Večerní semináře Feng Shui,Věra Erbenová
ATTACH;FMTTYPE=image/jpeg:https://adamfengshui.cz/wp-content/uploads/2017/08/ZuzkaM-150x150.jpg
ORGANIZER;CN="V%C4%9Bra Erbenov%C3%A1":MAILTO:vera.erbenova@adamfengshui.cz
END:VEVENT
BEGIN:VEVENT
DTSTART;TZID=UTC:20160316T180000
DTEND;TZID=UTC:20160316T200000
DTSTAMP:20260424T102051
CREATED:20151116T155339Z
LAST-MODIFIED:20151116T155339Z
UID:7986-1458151200-1458158400@adamfengshui.cz
SUMMARY:Plzeň - Večerní školička Adam Feng Shui - nová třída 2016
DESCRIPTION:Večerní školička Adam Feng Shui.  \nV předchozích letech jste se na nás často obraceli s dotazy\, zda existuje možnost zúčastnit se workshopů ve vašich městech. Chceme\, aby bylo Adam Feng Shui přístupné každému\, kdo touží být v harmonii se svým životním prostorem a potřebuje čerpat z okolí sílu a podporu. \nProto jsme pro Vás rozšířili naše aktivity. Chceme být blíž Vám i Vašim životům. Těšíme se\, že budeme i v budoucnu společně hledat a studovat nauky o harmonii. \nCo Vám přinese Večerní školička Adam Feng Shui?  \n– 10 dvouhodinových večerů ve vašem městě. \n– ke každému tématu obdržíte i PLÁN AKCE\, abyste vše mohli začít OKAMŽITĚ aplikovat a začali tak co nejdříve sklízet výsledky u každého konkrétního tématu. \n– povede Vás osobní lektor certifikovaný Adam Feng Shui \nCo vše na Vás ve Večerní školičce čeká? \n* Jak mohu Feng Shui jednoduše uplatnit ve svém životě? \n* Co všechno může můj byt ovlivnit? \n* Jak a kudy proudí energie v mém bytě a jiných prostorech? Jak najít hlavní proud a jeho přítoky a také úniky energie v prostoru. \n* Jak mohu energii v prostoru ovlivnit a pracovat s ní\, aby byla příznivá? \n* Koloběh života v pěti živlech\, jejich projevy a jak to vše zařadit do denního života. \n* Co o nás řekne energetické číslo Ming Kua? Oblíbené poznávání sebe sama a lidí kolem nás na základě data narození. \n* 9 bran prostoru\, které vstupují do našich životů. \n* Vaše životní cesta – první krok\, start a schopnost začít? \n* Vztahy – vůně lásky\, opojnosti a schopnost nebýt sám. \n* Kde Vás tlačí minulost? Co si táhneme do dnešních dní? \n* Hojnost Vašeho života\, bohatství Vašich dní. \n* Pomoc z nebe\, cesty kolem světa a náhody. \n* Tvořivé dítě uvnitř Vás – myslíte\, že ještě zůstalo? Jak ho podpořit a lépe komunikovat? \n* Vnitřní síla\, jak ji nalézt\, jak se učit a načerpat sílu do dalších dní. \n* Dosažení Vašich snů\, cílů\, triumfů\, úspěchů Vašeho života. \n* A spojení toho všeho v harmonii bytí. \nRezervovat místo \nŠkolička ve Vašem městě bude otevřena\, pokud do termínu uzávěrky bude přihlášen minimální počet studentů. Proto neváhejte a rezervujte si místo\, ať můžeme přijít přímo k Vám. \n\nO otevření třídy\, termínu a místě budete obratem informovaní lektorem. Proto pokud chcete školičku ve vašem městě\, projevte svůj zájem rezervací\, abychom my věděli počet zájemců. Děkujeme a těšíme se na Vás osobně. \nTým konzultantů Feng Shui Academy \nRezervovat místo
URL:https://adamfengshui.cz/event/plzen-vecerni-skolicka-adam-feng-shui-nova-trida-2016/
LOCATION:Husova 1126/43 Plzeň     Waldorfská základní škola\, Husova 1126/43     Waldorfská základní škola\, Plzeň\, Česká republika
CATEGORIES:Plzeň,Prodáváme,Večerní semináře Feng Shui,Věra Erbenová,Workshopy a semináře Feng Shui Academy
ATTACH;FMTTYPE=image/jpeg:https://adamfengshui.cz/wp-content/uploads/2017/08/ZuzkaM-150x150.jpg
ORGANIZER;CN="V%C4%9Bra Erbenov%C3%A1":MAILTO:vera.erbenova@adamfengshui.cz
END:VEVENT
BEGIN:VEVENT
DTSTART;TZID=Europe/Prague:20160301T170000
DTEND;TZID=Europe/Prague:20160301T200000
DTSTAMP:20260424T102051
CREATED:20160207T160401Z
LAST-MODIFIED:20160207T160401Z
UID:8398-1456851600-1456862400@adamfengshui.cz
SUMMARY:Plzeň - Rok ohnivé opice
DESCRIPTION:  \n  \nJaký bude nový čínský rok? Co nám přinese – bude pro nás dobrým rokem? \nJak mohu podpořit příznivé vlivy a omezit ty nepříjemné? \nNezapomeňte plánek svého bytu. \n[maxbutton id=“1″]
URL:https://adamfengshui.cz/event/plzen-vecerni-skolicka-feng-shui-chcete-vic/
LOCATION:Zbrojnická 1\, Zbrojnická 1\, Plzeň\, Česká republika
CATEGORIES:Plzeň,Večerní semináře Feng Shui,Věra Erbenová
ATTACH;FMTTYPE=:
ORGANIZER;CN="V%C4%9Bra Erbenov%C3%A1":MAILTO:vera.erbenova@adamfengshui.cz
END:VEVENT
BEGIN:VEVENT
DTSTART;TZID=Europe/Prague:20160223T180000
DTEND;TZID=Europe/Prague:20160223T200000
DTSTAMP:20260424T102051
CREATED:20160207T152935Z
LAST-MODIFIED:20160207T152935Z
UID:8396-1456250400-1456257600@adamfengshui.cz
SUMMARY:Plzeň - A - večerní školička Feng Shui
DESCRIPTION:Prostor vaší minulosti\, tvořivé dítě v nás \nDozvíte se\, kde v bytě je místo vaší minulosti a jak vám může pomoci. Objevíte studnici hravosti a nápaditosti. Naučíte se využívat svého tvůrčího potenciálu. \nJedná se o uzavřenou skupinu.
URL:https://adamfengshui.cz/event/plzen-vecerni-skolicka-feng-shui/
LOCATION:Zbrojnická 1\, Zbrojnická 1\, Plzeň\, Česká republika
CATEGORIES:Plzeň,Večerní semináře Feng Shui,Věra Erbenová
ATTACH;FMTTYPE=image/jpeg:https://adamfengshui.cz/wp-content/uploads/2017/08/ZuzkaM-150x150.jpg
ORGANIZER;CN="V%C4%9Bra Erbenov%C3%A1":MAILTO:vera.erbenova@adamfengshui.cz
END:VEVENT
BEGIN:VEVENT
DTSTART;TZID=Europe/Prague:20160209T180000
DTEND;TZID=Europe/Prague:20160209T200000
DTSTAMP:20260424T102051
CREATED:20160105T113721Z
LAST-MODIFIED:20160105T113721Z
UID:8162-1455040800-1455048000@adamfengshui.cz
SUMMARY:Plzeň - A - Večerní školička - Vztahy\, láska a partnerství
DESCRIPTION:Večerní školička Feng Shui Plzeň – akce pro uzavřenou skupinu. \nVztahy – vůně lásky\, opojnosti a schopnost nebýt sám. \nProžitkový večer\, který Vám poodhalí\, jaké jsou a mohou být vaše vztahy. Jak je můžeme ovlivnit prostorem\, ve kterém žijeme? \nTato akce je pro uzavřenou skupinu.
URL:https://adamfengshui.cz/event/plzen-vecerni-skolicka-vztahy-laska-partnerstvi/
LOCATION:Zbrojnická 1\, Zbrojnická 1\, Plzeň\, Česká republika
CATEGORIES:Plzeň,Večerní semináře Feng Shui,Věra Erbenová,Workshopy a semináře Feng Shui Academy
ATTACH;FMTTYPE=image/jpeg:https://adamfengshui.cz/wp-content/uploads/2017/08/ZuzkaM-150x150.jpg
ORGANIZER;CN="V%C4%9Bra Erbenov%C3%A1":MAILTO:vera.erbenova@adamfengshui.cz
END:VEVENT
BEGIN:VEVENT
DTSTART;TZID=Europe/Prague:20151214T180000
DTEND;TZID=Europe/Prague:20151214T200000
DTSTAMP:20260424T102051
CREATED:20151116T204836Z
LAST-MODIFIED:20151116T204836Z
UID:7993-1450116000-1450123200@adamfengshui.cz
SUMMARY:Plzeň - Vánoční setkání s Feng Shui
DESCRIPTION:Vánoční setkání s Feng Shui \nOtevřené podvečerní setkání s tématem: \nJak díky Feng Shui prožít klidný advent a příjemné Vánoce. \nJaké nové rituály mohu s rodinou vyzkoušet a posílit tak naše vzájemné  vztahy. \nJak si pomocí Feng Shui naplánovat báječný nový rok? \n[maxbutton id=“1″]
URL:https://adamfengshui.cz/event/plzen-vanocni-setkani-s-feng-shui/
LOCATION:Zbrojnická 1\, Zbrojnická 1\, Plzeň\, Česká republika
CATEGORIES:Plzeň,Večerní semináře Feng Shui,Věra Erbenová,Workshopy a semináře Feng Shui Academy
ATTACH;FMTTYPE=:
ORGANIZER;CN="V%C4%9Bra Erbenov%C3%A1":MAILTO:vera.erbenova@adamfengshui.cz
END:VEVENT
BEGIN:VEVENT
DTSTART;TZID=Europe/Prague:20151110T180000
DTEND;TZID=Europe/Prague:20151110T200000
DTSTAMP:20260424T102051
CREATED:20151110T085332Z
LAST-MODIFIED:20151110T085332Z
UID:7968-1447178400-1447185600@adamfengshui.cz
SUMMARY:PLZEŇ - Vaše životní cesta
DESCRIPTION:Večerní školička Feng Shui Plzeň – akce pro uzavřenou skupinu. \nVaše životní cesta – první krok\, start a schopnost začít \nProžitkový večer\, který Vám poodhalí\, jaká je a může být vaše životní cesta. \nTato akce je pro uzavřenou skupinu.
URL:https://adamfengshui.cz/event/vase-zivotni-cesta-prvni-krok-start-a-schopnost-zacit/
CATEGORIES:Plzeň,Večerní semináře Feng Shui,Věra Erbenová,Workshopy a semináře Feng Shui Academy
ATTACH;FMTTYPE=image/jpeg:https://adamfengshui.cz/wp-content/uploads/2017/08/ZuzkaM-150x150.jpg
ORGANIZER;CN="V%C4%9Bra Erbenov%C3%A1":MAILTO:vera.erbenova@adamfengshui.cz
END:VEVENT
BEGIN:VEVENT
DTSTART;TZID=Europe/Prague:20141118T170000
DTEND;TZID=Europe/Prague:20141118T220000
DTSTAMP:20260424T102051
CREATED:20140915T091520Z
LAST-MODIFIED:20140915T091520Z
UID:764-1416330000-1416348000@adamfengshui.cz
SUMMARY:Plzeň– Feng Shui – Bohatství vašeho života
DESCRIPTION: WORKSHOP Zuzany Adam \nFENG SHUI a Bohatství vašeho života\nKrátce z programu: \n\nFeng Shui peněženky\nJak přilákat bohatství do vašich domácností\nKvětiny bohatství\, symboly\, amulety a různé jiné lákadla\nFeng Shui v podnikání a vaší kanceláři.\n\nTo vše spojené s příjemnými relaxačními cvičeními a  magický rituál pro vás byt a vaši duši. \n S sebou:  plánek svého bytu\, pastelky\, psací potřeby\, pohodlné oblečení\, deku a dobrou náladu… \nObjednávka zde: http://www.zuzanaadam.cz/feng-shui-objednavka/
URL:https://adamfengshui.cz/event/plzen-feng-shui-bohatstvi-vaseho-zivota/
LOCATION:Čajovna Relax\, Bolevecká náves 6/7\, Plzeň
CATEGORIES:Celodenní workshopy Feng Shui,Plzeň,Zuzana Adam
ATTACH;FMTTYPE=:
ORGANIZER;CN="V%C4%9Bra Erbenov%C3%A1":MAILTO:vera.erbenova@adamfengshui.cz
END:VEVENT
BEGIN:VEVENT
DTSTART;TZID=Europe/Prague:20141015T180000
DTEND;TZID=Europe/Prague:20141015T200000
DTSTAMP:20260424T102051
CREATED:20140925T072720Z
LAST-MODIFIED:20140925T072720Z
UID:2115-1413396000-1413403200@adamfengshui.cz
SUMMARY:Vysoké Mýto - Jak začít?
DESCRIPTION:Prožitkový večer\, který vás rychleji sblíží se starým uměním Feng Shui\, které nám i dnes pomáhá zkvalitnit život….. \n…téměř nikdy člověk nebydlí v ideálním bytě\, ale téměř vždy se s tím dá něco udělat… \n  \nZačněte aktivně měnit svůj život Vy sami. Bez toho\, abyste na každé posunutí vázy potřebovali odbornou radu. To vše budete vědět\, cítit a vnímat sami. Budete sami sobě Mistrem Feng Shui. \nFeng Shui….. staré čínské umění o harmonickém bydlení\, pro všechny\, kteří chtějí pomocí úprav v bytě vylepšit své vztahy\,  finanční situaci\, nebo dosáhnout zdravého a šťastného života plného přátel…. \nJak uspořádat svůj byt\, zahradu\, pracoviště podle zákonitostí Feng Shui tak\, abychom pomocí úprav prostředí\, ve kterém žijeme\, pozitivně ovlivnili své vztahy\, svou finanční situaci a dosáhli zdravého a šťastného života? \nJak čerpat ze svého okolí pozitivní energii? \n  \nVečerem provází – Hana Kopecká
URL:https://adamfengshui.cz/event/vysoke-myto-jak-zacit/
LOCATION:Čajovna Čajka\, Husova 184\, Vysoké Mýto
CATEGORIES:Plzeň,Večerní semináře Feng Shui,Věra Erbenová
END:VEVENT
BEGIN:VEVENT
DTSTART;TZID=Europe/Prague:20141006T180000
DTEND;TZID=Europe/Prague:20141006T193000
DTSTAMP:20260424T102051
CREATED:20140915T085546Z
LAST-MODIFIED:20140915T085546Z
UID:760-1412618400-1412623800@adamfengshui.cz
SUMMARY:Plzeň - Jak začít?
DESCRIPTION:Prožitkový večer\, který vás rychleji sblíží se starým uměním Feng Shui\, které nám i dnes pomáhá zkvalitnit život….. \n…téměř nikdy člověk nebydlí v ideálním bytě\, ale téměř vždy se s tím dá něco udělat… \n  \nZačněte aktivně měnit svůj život Vy sami. Bez toho\, abyste na každé posunutí vázy potřebovali odbornou radu. To vše budete vědět\, cítit a vnímat sami. Budete sami sobě Mistrem Feng Shui. \nFeng Shui….. staré čínské umění o harmonickém bydlení\, pro všechny\, kteří chtějí pomocí úprav v bytě vylepšit své vztahy\, svou finanční situaci\, nebo dosáhnout zdravého a šťastného života plného přátel…. \nJak uspořádat svůj byt\, zahradu\, pracoviště podle zákonitostí Feng Shui tak\, abychom pomocí úprav prostředí\, ve kterém žijeme\, pozitivně ovlivnili své vztahy\, svou finanční situaci a dosáhli zdravého a šťastného života? \nJak čerpat ze svého okolí pozitivní energii? \n  \nVečerem provází – Věra Erbenová
URL:https://adamfengshui.cz/event/plzen-jak-zacit/
LOCATION:Čajovna Relax\, Bolevecká náves 6/7\, Plzeň
CATEGORIES:Plzeň,Večerní semináře Feng Shui,Věra Erbenová
ORGANIZER;CN="V%C4%9Bra Erbenov%C3%A1":MAILTO:vera.erbenova@adamfengshui.cz
END:VEVENT
BEGIN:VEVENT
DTSTART;TZID=Europe/Prague:20140924T180000
DTEND;TZID=Europe/Prague:20140924T200000
DTSTAMP:20260424T102051
CREATED:20140916T102526Z
LAST-MODIFIED:20140916T102526Z
UID:811-1411581600-1411588800@adamfengshui.cz
SUMMARY:Týniště nad Orlicí - Jak začít?
DESCRIPTION:Prožitkový večer\, který vás rychleji sblíží se starým uměním Feng Shui\, které nám i dnes pomáhá zkvalitnit život….. \n…téměř nikdy člověk nebydlí v ideálním bytě\, ale téměř vždy se s tím dá něco udělat… \n  \nZačněte aktivně měnit svůj život Vy sami. Bez toho\, abyste na každé posunutí vázy potřebovali odbornou radu. To vše budete vědět\, cítit a vnímat sami. Budete sami sobě Mistrem Feng Shui. \nFeng Shui….. staré čínské umění o harmonickém bydlení\, pro všechny\, kteří chtějí pomocí úprav v bytě vylepšit své vztahy\,  finanční situaci\, nebo dosáhnout zdravého a šťastného života plného přátel…. \nJak uspořádat svůj byt\, zahradu\, pracoviště podle zákonitostí Feng Shui tak\, abychom pomocí úprav prostředí\, ve kterém žijeme\, pozitivně ovlivnili své vztahy\, svou finanční situaci a dosáhli zdravého a šťastného života? \nJak čerpat ze svého okolí pozitivní energii? \n  \nVečerem provází – Hana Kopecká
URL:https://adamfengshui.cz/event/tyniste-nad-orlici-jak-zacit/
LOCATION:JáNěkdo\, Kopečná 3\, Brno
CATEGORIES:Plzeň,Večerní semináře Feng Shui,Věra Erbenová
END:VEVENT
END:VCALENDAR