BEGIN:VCALENDAR
VERSION:2.0
PRODID:-//Adam Feng Shui - ECPv6.15.20//NONSGML v1.0//EN
CALSCALE:GREGORIAN
METHOD:PUBLISH
X-ORIGINAL-URL:https://adamfengshui.cz
X-WR-CALDESC:Akce na Adam Feng Shui
REFRESH-INTERVAL;VALUE=DURATION:PT1H
X-Robots-Tag:noindex
X-PUBLISHED-TTL:PT1H
BEGIN:VTIMEZONE
TZID:Europe/Prague
BEGIN:DAYLIGHT
TZOFFSETFROM:+0100
TZOFFSETTO:+0200
TZNAME:CEST
DTSTART:20150329T010000
END:DAYLIGHT
BEGIN:STANDARD
TZOFFSETFROM:+0200
TZOFFSETTO:+0100
TZNAME:CET
DTSTART:20151025T010000
END:STANDARD
BEGIN:DAYLIGHT
TZOFFSETFROM:+0100
TZOFFSETTO:+0200
TZNAME:CEST
DTSTART:20160327T010000
END:DAYLIGHT
BEGIN:STANDARD
TZOFFSETFROM:+0200
TZOFFSETTO:+0100
TZNAME:CET
DTSTART:20161030T010000
END:STANDARD
BEGIN:DAYLIGHT
TZOFFSETFROM:+0100
TZOFFSETTO:+0200
TZNAME:CEST
DTSTART:20170326T010000
END:DAYLIGHT
BEGIN:STANDARD
TZOFFSETFROM:+0200
TZOFFSETTO:+0100
TZNAME:CET
DTSTART:20171029T010000
END:STANDARD
BEGIN:DAYLIGHT
TZOFFSETFROM:+0100
TZOFFSETTO:+0200
TZNAME:CEST
DTSTART:20180325T010000
END:DAYLIGHT
BEGIN:STANDARD
TZOFFSETFROM:+0200
TZOFFSETTO:+0100
TZNAME:CET
DTSTART:20181028T010000
END:STANDARD
END:VTIMEZONE
BEGIN:VTIMEZONE
TZID:UTC
BEGIN:STANDARD
TZOFFSETFROM:+0000
TZOFFSETTO:+0000
TZNAME:UTC
DTSTART:20150101T000000
END:STANDARD
END:VTIMEZONE
BEGIN:VEVENT
DTSTART;TZID=Europe/Prague:20170116T164500
DTEND;TZID=Europe/Prague:20170116T184500
DTSTAMP:20260423T123205
CREATED:20170103T140213Z
LAST-MODIFIED:20170103T140213Z
UID:10340-1484585100-1484592300@adamfengshui.cz
SUMMARY:Opava - Večerní školička Adam Feng Shui - Jak začít?
DESCRIPTION:Večerní školička Adam Feng Shui\,\n první škola\, kterou si zamilujete. \nJAK ZAČÍT s Feng Shui? \nDříve než začnete posouvat nábytek a měnit barvy\, pojďme se seznámit s vaším bytem. \nPro nové věci\, nový život\, nového partnera\, novou práci musíme uvolnit v bytě místo. \nDozvíte se praktická doporučení\, jak váš prostor ošetřit a dodat mu potřebnou energii. \nVÁŠ DOMOV JE 24 HODIN DENNĚ PŘIPRAVENÝ PLNIT VAŠE SNY A PŘÁNÍ \nZní to neuvěřitelně?\nPrávě v této chvíli také pracuje na Vaší objednávce.\nA už záleží jen na Vás\, co si právě objednáváte. \nV naší večerní školičce Vás naučíme krok za krokem\, jak si zharmonizovat Váš domov. \nPředstavte si\,\njaké by to bylo skvělé mít práci\, po které toužíte\,\nsplnit si Vaše sny o cestování\,\ntěšit se pevnému zdraví\,\nmít dostatek peněz\,\nvyrovnané vztahy\,\nnebo …? \nVáš domov je připravený.\nA co Vy? \nUdělejte první krok a přijďte mezi nás. \nČeká vás cyklus otevřených dvouhodinových večerů \nVečerní školička v Opavě se otevírá 16. 1. 2017. \nBudeme se setkávat 1x za měsíc. \nREZERVOVAT MÍSTO\nPokud vám termín nevyhovuje\, prosím napište nám. \nŠkolička ve Vašem městě bude otevřená\, pokud do termínu uzávěrky bude přihlášený minimální počet studentů. Proto neváhejte a rezervujte si místo\, abychom mohli přijet přímo k Vám. \nO otevření třídy\, termínu a místě budete obratem informováni lektorem. Proto pokud chcete školičku ve vašem městě\, projevte svůj zájem rezervací\, abychom my věděli počet zájemců \nDěkujeme a těšíme se na Vás osobně. \nRenata Herczová za Adam Feng Shui \n\nNOVĚ si můžete zakoupit permanentku\n1 workshop = 450 Kč \nZvýhodněná cena permanentky: \n5 workshopů = 2000 Kč (platnost permanentky 6 měsíců od zakoupení) \n10 workshopů = 3500 Kč (platnost permanentky 12 měsíců od zakoupení) \nREZERVOVAT MÍSTO
URL:https://adamfengshui.cz/event/opava-vecerni-skolicka-adam-feng-shui-jak-zacit/
CATEGORIES:Opava,Prodáváme,Renata Herczová,Večerní semináře Feng Shui,Workshopy a semináře Feng Shui Academy
ATTACH;FMTTYPE=:
END:VEVENT
BEGIN:VEVENT
DTSTART;TZID=Europe/Prague:20170104T164500
DTEND;TZID=Europe/Prague:20170104T184500
DTSTAMP:20260423T123205
CREATED:20170101T014339Z
LAST-MODIFIED:20170101T014339Z
UID:10317-1483548300-1483555500@adamfengshui.cz
SUMMARY:Opava - Večerní školička Adam Feng Shui - Kruh osudu
DESCRIPTION:Náš domov i kancelář jsou naším „objednávkovým formulářem“ pro vesmír. \nNaučíme se\, jak správně podpořit splnění našich snů\, nasměrovat naši životní cestu\, nalézat moudrost a harmonii v každodenním životě. Objevíme možnosti\, jak efektivně pracovat na zlepšení partnerského vztahu\, přilákání přátel a pomocníků… \nPráce s prostorem je báječnou možností\, jak zlepšit náš život. \n  \nREZERVOVAT MÍSTO\nDěkujeme a těšíme se na Vás osobně. \nRenata Herzcová za Adam Feng Shui \n  \nREZERVOVAT MÍSTO\nNOVĚ si můžete zakoupit JEN lekci\, která vás zajímá\n1 lekce = 450 Kč \nZvýhodněná cena permanentky: \n5 lekcí = 2000 Kč (platnost permanentky 6 měsíců od zakoupení) \n10 lekcí = 3500 Kč (platnost permanentky 12 měsíců od zakoupení)
URL:https://adamfengshui.cz/event/opava-vecerni-skolicka-adam-feng-shui-kruh-osudu/
CATEGORIES:Opava,Prodáváme,Renata Herczová,Večerní semináře Feng Shui,Workshopy a semináře Feng Shui Academy
ATTACH;FMTTYPE=:
END:VEVENT
BEGIN:VEVENT
DTSTART;TZID=Europe/Prague:20161203T100000
DTEND;TZID=Europe/Prague:20161203T180000
DTSTAMP:20260423T123205
CREATED:20160925T201512Z
LAST-MODIFIED:20160925T201512Z
UID:9592-1480759200-1480788000@adamfengshui.cz
SUMMARY:Opava – Feng Shui – Vánoce\, advent a nový rok tak trochu jinak - Zuzana Adam
DESCRIPTION:Chcete prožít Vánoce v klidné atmosféře radosti v souladu se svým okolím? \nZajímá Vás\, jak se připravit na příchod nového roku\, aby se Vám Vaše sny snadněji zhmotňovaly v běžném životě? \nNaučíme Vás\, jak využít tradice našich předků a spojit je s poznatky čínského učení o harmonii a kráse. \nKrátce z programu: \n\nEnergie bytu\, domu a jejich obyvatel\nHarmonie a jak ji v našem prostředí dosáhnout\nDevět bran prostoru\nJak si prostřednictvím našeho bytu správně objednávat do života\, co chceme\nMagické rituály našich předků\nDávno zapomenuté tradice – některé ale přeci zůstali v našich rodinách dodnes – víte proč jíme vánočku nebo oplatku s česnekem?\n\n  \nBONUS : \nVánoce – stromeček a jeho symbolika. Co přinese umístěn v různých místech bytu. Vánoční čarování pro zhmotnění Vašich přání do příštího roku \nTo vše spojené s příjemnými relaxačními cvičeními. Součástí je i magický rituál pro Váš byt a Vaši duši. \nS sebou:  plánek svého bytu\, pastelky\, psací potřeby\, pohodlné oblečení\, deku a dobrou náladu… \nCena:  1698\,- Kč vč. DPH \n  \nDoporučuji rezervovat si své místo včas\, počet míst je omezen. \n[maxbutton id=“1″]\nTěším se na Vás osobně \nZuzana Adam
URL:https://adamfengshui.cz/event/opava-feng-shui-krok-za-krokem-bonus-vanocni-feng-shui-zuzana-adam/
LOCATION:centrum Perla\, Nádražní okruh 13\, \, Opava\, Česká republika
CATEGORIES:Celodenní workshopy Feng Shui,Opava,Prodáváme,Workshopy a semináře Feng Shui Academy,Zuzana Adam
ATTACH;FMTTYPE=:
END:VEVENT
BEGIN:VEVENT
DTSTART;TZID=Europe/Prague:20161121T164500
DTEND;TZID=Europe/Prague:20161121T184500
DTSTAMP:20260423T123205
CREATED:20161107T200315Z
LAST-MODIFIED:20161107T200315Z
UID:9901-1479746700-1479753900@adamfengshui.cz
SUMMARY:Opava - Lidé v prostoru- večerní školička Feng Shui
DESCRIPTION:Objevte sami sebe \n  \nVíte\, co je to číslo Ming Kua a jak ho vypočítat? \nA co nám prozradí toto číslo? \nMing Kua číslo souvisí s rokem našeho narozené. Vyjádžuje naše charakterové vlastnosti\, náš přístup k práci\, citovému životu… \nJe to naše nejdůležitější číslo\, které je spojeno s nasí nejhlubší energií. \nNa základě jeho výpočtu zjistíte\, proč někteří lidé musí být v neustálém pohybu\, proč někteří jsou víc romatičtí a jiní se dobře orientují v materiálním světě. \nZjístíte\, jak vaše „hyperaktivní“ dítě zklidnit a těm klidným dodat více energie. \nA jak vše propojit s vaším prostorem. \n. \nNOVĚ se můžete přihlásit jen na toto téma – 450Kč \nNebo si KUPTE 5 vstupů na workshopy Feng Shui a vyberete si sami\, které téma vás zajímá – 2.000 Kč \nRezervovat místo
URL:https://adamfengshui.cz/event/opava-lide-prostoru-vecerni-skolicka-feng-shui/
CATEGORIES:Opava,Renata Herczová,Večerní semináře Feng Shui,Workshopy a semináře Feng Shui Academy
ATTACH;FMTTYPE=:
END:VEVENT
BEGIN:VEVENT
DTSTART;TZID=Europe/Prague:20161024T170000
DTEND;TZID=Europe/Prague:20161024T190000
DTSTAMP:20260423T123205
CREATED:20160930T194833Z
LAST-MODIFIED:20160930T194833Z
UID:9629-1477328400-1477335600@adamfengshui.cz
SUMMARY:OPAVA - Večerní školička Adam Feng Shui - Harmonie života
DESCRIPTION:Večerní školička Adam Feng Shui\,\n první škola\, kterou si zamilujete. \nHarmonie života\n \nDříve než začnete posouvat nábytek a měnit barvy\, pojďme se seznámit s vaším bytem. \nProžitkový večer\, který Vám poodhalí\, kudy proudí energie v našem bytě. \nNaučíte se zákonitosti  5 prvků a dozvíte se\, jak s nimi pracovat v prostoru. \nDozvíte se praktická doporučení\, jak váš prostor ošetřit a dodat mu potřebnou energii. \nVÁŠ DOMOV JE 24 HODIN DENNĚ PŘIPRAVENÝ PLNIT VAŠE SNY A PŘÁNÍ \nZní to neuvěřitelně?\nPrávě v této chvíli také pracuje na Vaší objednávce.\nA už záleží jen na Vás\, co si právě objednáváte. \nV naší večerní školičce Vás naučíme krok za krokem\, jak si zharmonizovat Váš domov. \nPředstavte si\,\njaké by to bylo skvělé mít práci\, po které toužíte\,\nsplnit si Vaše sny o cestování\,\ntěšit se pevnému zdraví\,\nmít dostatek peněz\,\nvyrovnané vztahy\,\nnebo …? \nVáš domov je připravený.\nA co Vy? \nUdělejte první krok a přijďte mezi nás. \nČeká nás otevřený cyklus dvouhodinových večerů \nBudeme se setkávat 1x za měsíc od 17:00 do 19:00hod. \n  \nREZERVOVAT MÍSTO\nDěkujeme a těším se na Vás osobně. \nRenata Herczová za Adam Feng Shui \n  \nREZERVOVAT MÍSTO\nNOVĚ si můžete zakoupit JEN lekci\, která vás zajímá\n1 lekce = 450 Kč \nZvýhodněná cena permanentky: \n5 lekcí = 2000 Kč (platnost permanentky 6 měsíců od zakoupení) \n10 lekcí = 3500 Kč (platnost permanentky 12 měsíců od zakoupení)
URL:https://adamfengshui.cz/event/opava-vecerni-skolicka-adam-feng-shui-harmonie-zivota/
CATEGORIES:Opava,Prodáváme,Renata Herczová,Večerní semináře Feng Shui,Workshopy a semináře Feng Shui Academy
ATTACH;FMTTYPE=:
END:VEVENT
BEGIN:VEVENT
DTSTART;TZID=Europe/Prague:20160923T170000
DTEND;TZID=Europe/Prague:20160923T190000
DTSTAMP:20260423T123205
CREATED:20160828T115447Z
LAST-MODIFIED:20160828T115447Z
UID:9437-1474650000-1474657200@adamfengshui.cz
SUMMARY:Opava - Večerní školička Adam Feng Shui - Nová třída 1. lekce
DESCRIPTION:Večerní školička Adam Feng Shui\,\n první škola\, kterou si zamilujete. \nVÁŠ DOMOV JE 24 HODIN DENNĚ PŘIPRAVENÝ PLNIT VAŠE SNY A PŘÁNÍ. \nZní to neuvěřitelně?\nPrávě v této chvíli také pracuje na Vaší objednávce.\nA už záleží jen na Vás\, co si právě objednáváte. \nTrápí Vás Vaše zdraví?\nRádi cestujete\, ale zatím jen prstem po mapě?\nNebo byste chtěli najít partnera\, po kterém toužíte?\nA co Vaše peníze? Máte jich dostatek?\nJe Vaše práce Vaším koníčkem?\nA nebo jste se stali součástí každodenního koloběhu\, kde nemáte prostor na svoje sny a přání? \nV naší večerní školičce Vás naučíme krok za krokem\, jak si zharmonizovat Váš domov. \nPředstavte si\,\njaké by to bylo skvělé mít práci\, po které toužíte\,\nsplnit si Vaše sny o cestování\,\ntěšit se pevnému zdraví\,\nmít dostatek peněz\,\nvyrovnané vztahy\,\nnebo …? \nVáš domov je připravený.\nA co Vy? \nUdělejte první krok a přijďte mezi nás. \nČeká nás 13 dvouhodinových večerů. \nVečerní školička v Opavě se otevírá 23.9.2016. \n  \nBudeme se setkávat 1x za měsíc od 17:00 do 19:00hod. \nREZERVOVAT MÍSTO\nPokud vám termín nevyhovuje\, prosím\, napište nám. \nŠkolička ve Vašem městě bude otevřená\, pokud do termínu uzávěrky bude přihlášený minimální počet studentů. Proto neváhejte a rezervujte si místo\, abychom mohli přijet přímo k Vám. \nO otevření třídy\, termínu a místě budete obratem informováni lektorem. Proto pokud chcete školičku ve vašem městě\, projevte svůj zájem rezervací\, abychom my věděli počet zájemců. \nDěkujeme a těšíme se na Vás osobně. \nRenáta Herczová za Adam Feng Shui. \nREZERVOVAT MÍSTO
URL:https://adamfengshui.cz/event/opava-vecerni-skolicka-adam-feng-shui-nova-trida-1-lekce/
CATEGORIES:Opava,Prodáváme,Renata Herczová,Večerní semináře Feng Shui,Workshopy a semináře Feng Shui Academy
ATTACH;FMTTYPE=:
END:VEVENT
BEGIN:VEVENT
DTSTART;VALUE=DATE:20160227
DTEND;VALUE=DATE:20160228
DTSTAMP:20260423T123205
CREATED:20160204T154413Z
LAST-MODIFIED:20160204T154413Z
UID:8366-1456531200-1456617599@adamfengshui.cz
SUMMARY:Opava - Školička Adam Feng Shui
DESCRIPTION:Školička Adam Feng Shui.  \nV předchozích letech jste se na nás často obraceli s dotazy\, zda existuje možnost zúčastnit se workshopů ve vašich městech. Chceme\, aby bylo Adam Feng Shui přístupné každému\, kdo touží být v harmonii se svým životním prostorem a potřebuje čerpat z okolí sílu a podporu. \nProto jsme pro Vás rozšířili naše aktivity. Chceme být blíž Vám i Vašim životům. Těšíme se\, že budeme i v budoucnu společně hledat a studovat nauky o harmonii. \nCo Vám přinese Školička Adam Feng Shui?  \n– 3 celodenní semináře ve vašem městě v termínech 27.2.\, 19.3.\, 16.4.. \n– ke každému tématu obdržíte i PLÁN AKCE\, abyste vše mohli začít OKAMŽITĚ aplikovat a začali tak co nejdříve sklízet výsledky u každého konkrétního tématu. \n– povede Vás osobní lektor certifikovaný Adam Feng Shui \nCo vše na Vás ve Školičce Adam Feng Shui čeká? \n* Jak mohu Feng Shui jednoduše uplatnit ve svém životě? \n* Co všechno může můj byt ovlivnit? \n* Jak a kudy proudí energie v mém bytě a jiných prostorech? Jak najít hlavní proud a jeho přítoky a také úniky energie v prostoru. \n* Jak mohu energii v prostoru ovlivnit a pracovat s ní\, aby byla příznivá? \n* Koloběh života v pěti živlech\, jejich projevy a jak to vše zařadit do denního života. \n* Co o nás řekne energetické číslo Ming Kua? Oblíbené poznávání sebe sama a lidí kolem nás na základě data narození. \n* 9 bran prostoru\, které vstupují do našich životů. \n* Vaše životní cesta – první krok\, start a schopnost začít? \n* Vztahy – vůně lásky\, opojnosti a schopnost nebýt sám. \n* Kde Vás tlačí minulost? Co si táhneme do dnešních dní? \n* Hojnost Vašeho života\, bohatství Vašich dní. \n* Pomoc z nebe\, cesty kolem světa a náhody. \n* Tvořivé dítě uvnitř Vás – myslíte\, že ještě zůstalo? Jak ho podpořit a lépe komunikovat? \n* Vnitřní síla\, jak ji nalézt\, jak se učit a načerpat sílu do dalších dní. \n* Dosažení Vašich snů\, cílů\, triumfů\, úspěchů Vašeho života. \n* A spojení toho všeho v harmonii bytí. \nRezervovat místo \nŠkolička ve Vašem městě bude otevřena\, pokud do termínu uzávěrky bude přihlášen minimální počet studentů. Proto neváhejte a rezervujte si místo\, ať můžeme přijít přímo k Vám. \n\nO otevření třídy\, termínu a místě budete obratem informovaní lektorem. Proto pokud chcete Školičku ve vašem městě\, projevte svůj zájem rezervací\, abychom my věděli počet zájemců. Děkujeme a těšíme se na Vás osobně. \nTým konzultantů Feng Shui Academy \nRezervovat místo
URL:https://adamfengshui.cz/event/opava-vecerni-skolicka-adam-feng-shui/
CATEGORIES:Celodenní workshopy Feng Shui,Hana Kopecká,Opava,ostrava,Workshopy a semináře Feng Shui Academy
ATTACH;FMTTYPE=image/jpeg:https://adamfengshui.cz/wp-content/uploads/2017/08/ZuzkaM-150x150.jpg
END:VEVENT
END:VCALENDAR