BEGIN:VCALENDAR
VERSION:2.0
PRODID:-//Adam Feng Shui - ECPv6.15.20//NONSGML v1.0//EN
CALSCALE:GREGORIAN
METHOD:PUBLISH
X-WR-CALNAME:Adam Feng Shui
X-ORIGINAL-URL:https://adamfengshui.cz
X-WR-CALDESC:Akce na Adam Feng Shui
REFRESH-INTERVAL;VALUE=DURATION:PT1H
X-Robots-Tag:noindex
X-PUBLISHED-TTL:PT1H
BEGIN:VTIMEZONE
TZID:Europe/Prague
BEGIN:DAYLIGHT
TZOFFSETFROM:+0100
TZOFFSETTO:+0200
TZNAME:CEST
DTSTART:20180325T010000
END:DAYLIGHT
BEGIN:STANDARD
TZOFFSETFROM:+0200
TZOFFSETTO:+0100
TZNAME:CET
DTSTART:20181028T010000
END:STANDARD
BEGIN:DAYLIGHT
TZOFFSETFROM:+0100
TZOFFSETTO:+0200
TZNAME:CEST
DTSTART:20190331T010000
END:DAYLIGHT
BEGIN:STANDARD
TZOFFSETFROM:+0200
TZOFFSETTO:+0100
TZNAME:CET
DTSTART:20191027T010000
END:STANDARD
BEGIN:DAYLIGHT
TZOFFSETFROM:+0100
TZOFFSETTO:+0200
TZNAME:CEST
DTSTART:20200329T010000
END:DAYLIGHT
BEGIN:STANDARD
TZOFFSETFROM:+0200
TZOFFSETTO:+0100
TZNAME:CET
DTSTART:20201025T010000
END:STANDARD
END:VTIMEZONE
BEGIN:VEVENT
DTSTART;TZID=Europe/Prague:20191106T170000
DTEND;TZID=Europe/Prague:20191106T190000
DTSTAMP:20260420T174937
CREATED:20191017T123136Z
LAST-MODIFIED:20191017T123539Z
UID:13434-1573059600-1573066800@adamfengshui.cz
SUMMARY:Karlovy Vary - 3 kroky ke změně života
DESCRIPTION:Prožitkový večer\, kdy se naučíme správně podpořit plnění našich snů\, nasměrovat naši životní cestu\, nalézat moudrost a harmonii v každodenním životě. \n  \nNáš domov i kancelář jsou naším „objednávkovým formulářem“ pro vesmír.\nVyužijme svůj prostor\, jako podpory ke změně.\nUdělejte první krok a přijďte mezi nás.\n  \nVÁŠ DOMOV JE 24 HODIN DENNĚ PŘIPRAVENÝ PLNIT VAŠE SNY A PŘÁNÍ \n  \nS sebou: plánek bytu v přesných rozměrech\, sešit na poznámky\, psací potřeby /pastelky/\nWorkshopu se může zúčastnit kdokoli\, nejsou potřeba žádné znalosti Feng Shui. \n  \nPočet míst je limitovaný\, rezervujte si místo včas. \n  \n6. listopadu 2019  17-19 hod.                                           \nPenzion Hestia\, Stará Kysibelská 45\, 360 09 Karlovy Vary- Drahovice \n  \nTěším se na vás osobně na večerním setkání.\nMarkéta Pešulová; marketa.pesulova@adamfengshui.cz; tel.739 028 554 \n  \nVstupné 299 Kč \n  \nREZERVOVAT MÍSTO\n  \n 
URL:https://adamfengshui.cz/event/praha-jak-si-pripravit-s-feng-shui-vanoce-a-novy-rok-2020-2/
LOCATION:Stará Kysibelská 45\, Karlovy Vary
CATEGORIES:Karlovy Vary,Prodáváme,Večerní semináře Feng Shui
ATTACH;FMTTYPE=image/jpeg:https://adamfengshui.cz/wp-content/uploads/2019/10/57326259_291959895069442_3063188306347950080_n.jpg
END:VEVENT
END:VCALENDAR