BEGIN:VCALENDAR
VERSION:2.0
PRODID:-//Adam Feng Shui - ECPv6.15.20//NONSGML v1.0//EN
CALSCALE:GREGORIAN
METHOD:PUBLISH
X-ORIGINAL-URL:https://adamfengshui.cz
X-WR-CALDESC:Akce na Adam Feng Shui
REFRESH-INTERVAL;VALUE=DURATION:PT1H
X-Robots-Tag:noindex
X-PUBLISHED-TTL:PT1H
BEGIN:VTIMEZONE
TZID:Europe/Prague
BEGIN:DAYLIGHT
TZOFFSETFROM:+0100
TZOFFSETTO:+0200
TZNAME:CEST
DTSTART:20130331T010000
END:DAYLIGHT
BEGIN:STANDARD
TZOFFSETFROM:+0200
TZOFFSETTO:+0100
TZNAME:CET
DTSTART:20131027T010000
END:STANDARD
BEGIN:DAYLIGHT
TZOFFSETFROM:+0100
TZOFFSETTO:+0200
TZNAME:CEST
DTSTART:20140330T010000
END:DAYLIGHT
BEGIN:STANDARD
TZOFFSETFROM:+0200
TZOFFSETTO:+0100
TZNAME:CET
DTSTART:20141026T010000
END:STANDARD
BEGIN:DAYLIGHT
TZOFFSETFROM:+0100
TZOFFSETTO:+0200
TZNAME:CEST
DTSTART:20150329T010000
END:DAYLIGHT
BEGIN:STANDARD
TZOFFSETFROM:+0200
TZOFFSETTO:+0100
TZNAME:CET
DTSTART:20151025T010000
END:STANDARD
END:VTIMEZONE
BEGIN:VEVENT
DTSTART;TZID=Europe/Prague:20141111T170000
DTEND;TZID=Europe/Prague:20141111T220000
DTSTAMP:20260424T205051
CREATED:20141017T125242Z
LAST-MODIFIED:20141017T125242Z
UID:6361-1415725200-1415743200@adamfengshui.cz
SUMMARY:Havlíčkův Brod – Feng Shui – krok za krokem - Bonus Vánoční Feng Shui
DESCRIPTION:Krátce z programu: \n  \no    Energie bytu\, domu a jejich obyvatel \no    Harmonie a jak ji v našem prostředí dosáhnout \no    Devět bran prostoru \no    Jak si prostřednictvím našeho bytu správně objednávat do života co chceme \n  \nBONUS : Vánoce – stromeček a jeho symbolika\, ve kterém místě bytu co přinese. Vánoční čarování pro zhmotnění vašich přání do příštího roku \n  \n  \nTo vše spojené s příjemnými relaxačními cvičeními a  magický rituál pro vás byt a vaši duši. \n  \nSebou:  plánek svého bytu\, pastelky\, psací potřeby\, pohodlné oblečení\, deku a dobrou náladu… \nobjednávejte ZDE
URL:https://adamfengshui.cz/event/havlickuv-brod-feng-shui-krok-za-krokem-bonus-vanocni-feng-shui/
LOCATION:Studio Oriflame\, Dolní 258\, Havlíčkův Brod\, 580 01\, Česká republika
CATEGORIES:Havlíčkův Brod,Večerní semináře Feng Shui,Workshopy a semináře Feng Shui Academy,Zuzana Adam
ATTACH;FMTTYPE=:
END:VEVENT
END:VCALENDAR